Workbook

Sheet 運営状況報告
A1: 別記第４号様式の２②（個人） | Q1: 施設番号
A2: 居宅訪問型保育事業 運営状況報告（個人） | U2: （令和８年10月１日現在）
A3: ① | B3: 事業所の名称
A4: ② | B4: 事業所の所在地 | F4: 〒 | K4: ☎
F5: 東京都世田谷区
F6: 最寄駅 | L6: 線 | Q6: 駅 | U6: バス | X6: 徒歩 | AB6: 分
A7: ③ | B7: 設置者名 （管理者名）
A8: ④ | B8: 設置者住所 | F8: 〒 | K8: ☎ | R8: メール アドレス
B9: ※②と同様の場合は記載不要 | F9: 東京都世田谷区
A10: ⑤ | B10: 事業開始年月日 | F10: 西暦 | K10: 年 | N10: 月 | Q10: 日 | U10: ( | V10: =DATE(H10,L10,O10) -> #NUM! | AB10: )
A12: ⑥ | B12: 保育提供可能時間 | F12: 通常保育提供可能時間 | M12: 時間外保育提供可能時間 | T12: 備考
C13: 平日 | I13: ～ | P13: ～
C14: 土曜日 | I14: ～ | P14: ～
C15: 日・祝日 | I15: ～ | P15: ～
A16: ⑦ | B16: 提供する サービス内容 | G16: 月極契約 | L16: (対象年齢 | Q16: 歳 | T16: 月～ | X16: 歳） | Y16: ※1) 0歳児の場合は、月齢まで記入すること。
G17: 定期契約 | L17: (対象年齢 | Q17: 歳 | T17: 月～ | X17: 歳）
B18: ※提供しているサービス内容にチェックを付けてください。 | G18: 一時預かり | L18: (対象年齢 | Q18: 歳 | T18: 月～ | X18: 歳）
G19: 夜間保育 | L19: (対象年齢 | Q19: 歳 | T19: 月～ | X19: 歳） | Y19: ※2) サービスの内容は、「記載上の注意」により分類すること。
G20: 24時間保育 | L20: (対象年齢 | Q20: 歳 | T20: 月～ | X20: 歳）
G21: ( | K21: ) | L21: (対象年齢 | Q21: 歳 | T21: 月～ | X21: 歳）
F22: 保育サービスの提供地域
G23: 区内 | J23: 23区内 | M23: 東京都内 | Q23: その他（ | AB23: ）
A24: ⑧ | B24: 利用料金 設定状況 | G24: 月単位 | K24: 週単位 | O24: 日単位 | S24: 時間単位 | W24: 日中夜間別
G25: 所得別 | K25: その他（ | X25: ） | AA25: 設定なし
A26: ⑨-1 | C26: 利用形態 | F26: 月極額 | J26: 定期契約 | N26: 一時預かり | V26: その他
C27: 年齢 | F27: 単位（月） | J27: 単位(時間） | N27: 単位(時間） | R27: （ | U27: ）
C28: 0歳児 | I28: 円 | M28: 円 | Q28: 円 | U28: 円 | V28: ・ | W28: 食事代
AB29: 円
C30: 1歳児 | I30: 円 | M30: 円 | Q30: 円 | U30: 円 | V30: ・ | W30: 入会金
A31: 利用料金 | AA31: 円 | AB31: 円
C32: 2歳児 | I32: 円 | M32: 円 | Q32: 円 | U32: 円 | V32: ・ | W32: キャンセル料
AB33: 円
C34: 3歳児 | I34: 円 | M34: 円 | Q34: 円 | U34: 円 | V34: ・ | W34: 交通費( | AB34: )
AB35: 円
C36: 4歳児 | I36: 円 | M36: 円 | Q36: 円 | U36: 円 | V36: ・
AB37: 円
C38: 5歳児 | I38: 円 | M38: 円 | Q38: 円 | U38: 円 | V38: ・
AB39: 円
C40: 6歳以上 （就学前） | I40: 円 | M40: 円 | Q40: 円 | U40: 円 | V40: ・
AB41: 円
...

Sheet 集計（※編集・削除せず、そのまま提出してください。）
A1: 施設番号 | B1: 施設名称 | C1: 所在地 | F1: 施設連絡先 | G1: 設置者名 | H1: 設置者住所･連絡先 | M1: 事業開始年月日 | N1: 平日 | R1: 土曜日 | V1: 日曜日・祝日 | Z1: 月極契約 | AD1: 定期契約 | AH1: 一時預かり | AL1: 夜間保育 | AP1: 24時間保育 | AT1: その他 | AX1: 保育サービスの提供地域 | BB1: 料金設定 | BK1: 利用料金 | CQ1: 利用料金以外の実費 | DD1: 利用料金 | DL1: 保育している児童の人数 | FN1: 時間帯別の在籍児童数 | IQ1: 保有する資格等 | IV1: 修了した研修 | JF1: 研修受講状況（直近５年） | JM1: 保険加入状況 | JU1: 提携医療機関 | JY1: 保育計画の策定 | KF1: 研修等の参加状況 | KQ1: 安全管理・事故防止の取組状況 | KW1: 保護者との連絡状況 | LA1: 事前の面接 | LB1: 利用開始時の健康状態観察 | LI1: 利用開始時の個別検査 | LN1: 児童の健康診断 | LR1: ケガや病気の時の措置 | LV1: 保育者の健康診断 | LY1: 検便 | MD1: 乳幼児突然死症候群に対する注意 | MI1: 安全確保 | ML1: 利用者等への情報提供 | MO1: 児童票の作成状況 | MT1: 帳簿の作成、整備状況 | MW1: マッチングサイトへの登録状況 | MZ1: 行政処分 | NF1: 緊急時等における対応方法 | NI1: 非常災害対策の取組み | NL1: 虐待防止の取組み
C2: 〒 | D2: 住所 | F2: tel | H2: 〒 | I2: 住所 | K2: tel | L2: メール | N2: 通常 | P2: 時間外 | R2: 通常 | T2: 時間外 | V2: 通常 | X2: 時間外 | Z2: 実施 | AA2: 下限 | AC2: 上限 | AD2: 実施 | AE2: 下限 | AG2: 上限 | AH2: 実施 | AI2: 下限 | AK2: 上限 | AL2: 実施 | AM2: 下限 | AO2: 上限 | AP2: 実施 | AQ2: 下限 | AS2: 上限 | AT2: 実施 | AU2: 下限 | AW2: 上限 | AX2: 区内 | AY2: 23区内 | AZ2: 都内 | BA2: その他 | BB2: 月単位 | BC2: 週単位 | BD2: 日単位 | BE2: 時間単位 | BF2: 日中・夜間別 | BG2: 所得別 | BH2: 設定なし | BI2: その他 | BJ2: その他内容 | BK2: 月極契約 | BS2: 定期契約 | CA2: 一時預かり | CI2: その他 | CQ2: 食事代 | CR2: 入会金 | CS2: キャンセル料 | CT2: 交通費 | CV2: その他１ | CX2: その他２ | CZ2: その他３ | DB2: その他４ | DD2: 会員 | DH2: 非会員 | DL2: 2時間以下 | DU2: ２時間～４時間以下 | ED2: ４時間～６時間以下 | EM2: ６時間～８時間以下 | EV2: ８時間～ | FE2: 計 | FN2: 7:00～8:59 | FW2: 9:00～16:59 | GF2: 17:00～17:59 | GO2: 18:00～18:59 | GX2: 19:00～19:59 | HG2: 20:00～21:59 | HP2: 22:00～23:59 | HY2: 0:00～6:59 | IH2: 主たる11時間 | JO2: 保険種類 | JS2: 保険事故(内容) | JT2: 保険金額 | JU2: 機関名 | JV2: 所在地 | JW2: tel | JX2: 提携内容 | JY2: 策定なし | JZ2: 計画の種別 | KF2: 受講あり | KG2: 受講なし | KH2: 研修名等 | KK2: 研修名等 | KN2: 研修名等 | KQ2: 保育安全計画策定 | KR2: 研修の定期受講 | KS2: 手順やマニュアルの整備 | KT2: 救命講習の受講 | KU2: 救命講習受講予定 | KV2: 緊急時の連絡体制 | KW2: 連絡帳の作成 | KX2: 緊急連絡表の作成 | KY2: その他 | KZ2: その他の内容 | LB2: 体温 | LC2: 排便 | LD2: 食事 | LE2: 睡眠 | LF2: 顔ぼう | LG2: その他 | LH2: その他の内容 | LI2: 服装 | LJ2: 外傷 | LK2: 清潔 | LL2: その他 | LM2: その他の内容 | LN2: 利用開始時 | LP2: 利用開始後 | LR2: 保護者連絡 | LS2: 医療機関受診 | LT2: その他 | LU2: その他の内容 | LV2: 有無 | LW2: 直近の受診時期 | LX2: 直近の受診時期 | LY2: 有無 | LZ2: 毎月 | MA2: 隔月 | MB2: その他 | MC2: 回数 | MD2: 観察 | ME2: 仰向け寝 | MF2: 睡眠チェックリスト | MG2: ベビーセンサー | MH2: 禁煙 | MI2: 安全対策 | MJ2: 事故防止 | MK2: 緊急対策 | ML2: 掲示 | MM2: 書面交付 | MN2: 契約説明 | MO2: 家庭状況 | MP2: 既往症 | MQ2: 健康状況 | MR2: 成長記録 | MS2: 健康診断記録 | MT2: 資格証明書 | MU2: 研修修了書 | MV2: 児童利用状況表 | MW2: 有無 | MX2: サイト名 | MY2: URL | MZ2: 命令の有無あり | NA2: 命令なし | NB2: 命令の種別 | ND2: 都道府県 | NE2: 命令年月日 | NF2: マニュアル | NG2: 研修受講 | NH2: その他 | NI2: マニュアル | NJ2: 研修受講 | NK2: その他 | NL2: マニュアル | NM2: 研修受講 | NN2: その他
D3: 区市町村 | E3: 建物名・階数・号室 | I3: 区市町村 | J3: 建物名・階数・号室 | N3: 始 | O3: 終 | P3: 始 | Q3: 終 | R3: 始 | S3: 終 | T3: 始 | U3: 終 | V3: 始 | W3: 終 | X3: 始 | Y3: 終 | AA3: 歳 | AB3: 月 | AC3: 歳 | AE3: 歳 | AF3: 月 | AG3: 歳 | AI3: 歳 | AJ3: 月 | AK3: 歳 | AM3: 歳 | AN3: 月 | AO3: 歳 | AQ3: 歳 | AR3: 月 | AS3: 歳 | AU3: 歳 | AV3: 月 | AW3: 歳 | BK3: 0歳 | BL3: 1歳 | BM3: 2歳 | BN3: 3歳 | BO3: 4歳 | BP3: 5歳 | BQ3: 6歳(未就学) | BR3: 学童 | BS3: 0歳 | BT3: 1歳 | BU3: 2歳 | BV3: 3歳 | BW3: 4歳 | BX3: 5歳 | BY3: 6歳(未就学) | BZ3: 学童 | CA3: 0歳 | CB3: 1歳 | CC3: 2歳 | CD3: 3歳 | CE3: 4歳 | CF3: 5歳 | CG3: 6歳(未就学) | CH3: 学童 | CI3: 0歳 | CJ3: 1歳 | CK3: 2歳 | CL3: 3歳 | CM3: 4歳 | CN3: 5歳 | CO3: 6歳(未就学) | CP3: 学童 | CQ3: 金額 | CR3: 金額 | CS3: 金額 | CT3: 内容 | CU3: 金額 | CV3: 内容 | CW3: 金額 | CX3: 内容 | CY3: 金額 | CZ3: 内容 | DA3: 金額 | DB3: 内容 | DC3: 金額 | DD3: 早朝 | DE3: 日中 | DF3: 夜間 | DG3: 深夜 | DH3: 早朝 | DI3: 日中 | DJ3: 夜間 | DK3: 深夜 | DL3: 0歳 | DM3: 1歳 | DN3: 2歳 | DO3: 3歳 | DP3: 4歳 | DQ3: 5歳 | DR3: 6歳(就学前) | DS3: 学童 | DT3: 計 | DU3: 0歳 | DV3: 1歳 | DW3: 2歳 | DX3: 3歳 | DY3: 4歳 | DZ3: 5歳 | EA3: 6歳(就学前) | EB3: 学童 | EC3: 計 | ED3: 0歳 | EE3: 1歳 | EF3: 2歳 | EG3: 3歳 | EH3: 4歳 | EI3: 5歳 | EJ3: 6歳(就学前) | EK3: 学童 | EL3: 計 | EM3: 0歳 | EN3: 1歳 | EO3: 2歳 | EP3: 3歳 | EQ3: 4歳 | ER3: 5歳 | ES3: 6歳(就学前) | ET3: 学童 | EU3: 計 | EV3: 0歳 | EW3: 1歳 | EX3: 2歳 | EY3: 3歳 | EZ3: 4歳 | FA3: 5歳 | FB3: 6歳(就学前) | FC3: 学童 | FD3: 計 | FE3: 0歳 | FF3: 1歳 | FG3: 2歳 | FH3: 3歳 | FI3: 4歳 | FJ3: 5歳 | FK3: 6歳(就学前) | FL3: 学童 | FM3: 計 | FN3: 0歳児 | FO3: 1歳児 | FP3: 2歳児 | FQ3: 3歳児 | FR3: 4歳児 | FS3: 5歳児 | FT3: 6歳児 | FU3: 学童 | FV3: 計 | FW3: 0歳児 | FX3: 1歳児 | FY3: 2歳児 | FZ3: 3歳児 | GA3: 4歳児 | GB3: 5歳児 | GC3: 6歳児 | GD3: 学童 | GE3: 計 | GF3: 0歳児 | GG3: 1歳児 | GH3: 2歳児 | GI3: 3歳児 | GJ3: 4歳児 | GK3: 5歳児 | GL3: 6歳児 | GM3: 学童 | GN3: 計 | GO3: 0歳児 | GP3: 1歳児 | GQ3: 2歳児 | GR3: 3歳児 | GS3: 4歳児 | GT3: 5歳児 | GU3: 6歳児 | GV3: 学童 | GW3: 計 | GX3: 0歳児 | GY3: 1歳児 | GZ3: 2歳児 | HA3: 3歳児 | HB3: 4歳児 | HC3: 5歳児 | HD3: 6歳児 | HE3: 学童 | HF3: 計 | HG3: 0歳児 | HH3: 1歳児 | HI3: 2歳児 | HJ3: 3歳児 | HK3: 4歳児 | HL3: 5歳児 | HM3: 6歳児 | HN3: 学童 | HO3: 計 | HP3: 0歳児 | HQ3: 1歳児 | HR3: 2歳児 | HS3: 3歳児 | HT3: 4歳児 | HU3: 5歳児 | HV3: 6歳児 | HW3: 学童 | HX3: 計 | HY3: 0歳児 | HZ3: 1歳児 | IA3: 2歳児 | IB3: 3歳児 | IC3: 4歳児 | ID3: 5歳児 | IE3: 6歳児 | IF3: 学童 | IG3: 計 | IH3: 0歳児 | II3: 1歳児 | IJ3: 2歳児 | IK3: 3歳児 | IL3: 4歳児 | IM3: 5歳児 | IN3: 6歳児 | IO3: 学童 | IP3: 計 | IQ3: 保育士 | IR3: 看護師 | IS3: 准看護師 | IT3: 保健師 | IU3: 助産師 | IV3: (公社)全国保育サービス協会の認定ベビーシッター | IW3: 基礎研修 | IX3: 認定研修 | IY3: 居宅基礎 | IZ3: 子育て支援員 | JA3: ACSA養成研修等 | JB3: ACSA資格科目履修 | JC3: 認可外の居宅研修 | JD3: いずれもなし | JE3: 無資格・未受講の理由 | JF3: 居宅訪問型 | JG3: 子育て支援員 | JH3: 家庭的保育研修 | JI3: ACSA養成等研修 | JJ3: その他 | JK3: その他研修名 | JL3: 受講なし | JM3: 加入 | JN3: 未加入 | JO3: 賠償責任保険 | JP3: 傷害保険 | JQ3: その他 | JR3: その他内容 | JZ3: 年間 | KA3: 月案 | KB3: 週案 | KC3: デイリープログラム | KD3: 行事予定 | KE3: 保育目標 | KH3: 年 | KI3: 月 | KJ3: 研修名 | KK3: 年 | KL3: 月 | KM3: 研修名 | KN3: 年 | KO3: 月 | KP3: 研修名 | LN3: 診断書 | LO3: 母子健康手帳 | LP3: 診断書 | LQ3: 母子健康手帳 | NB3: 事業停止命令 | NC3: 施設閉鎖命令
A4: =運営状況報告!V1 -> 0 | B4: =運営状況報告!F3 -> 0 | C4: =運営状況報告!G4 -> 0 | D4: =運営状況報告!K5 -> 0 | E4: =運営状況報告!U5 -> 0 | F4: =運営状況報告!L4 -> 0 | G4: =運営状況報告!F7 -> 0 | H4: =運営状況報告!G8 -> 0 | I4: =運営状況報告!K9 -> 0 | J4: =運営状況報告!U9 -> 0 | K4: =運営状況報告!L8 -> 0 | L4: =運営状況報告!T8 -> 0 | M4: =運営状況報告!V10 -> #NUM! | N4: =運営状況報告!$F13 -> 0 | O4: =運営状況報告!$J13 -> 0 | P4: =運営状況報告!$M13 -> 0 | Q4: =運営状況報告!$Q13 -> 0 | R4: =運営状況報告!$F14 -> 0 | S4: =運営状況報告!$J14 -> 0 | T4: =運営状況報告!$M14 -> 0 | U4: =運営状況報告!$Q14 -> 0 | V4: =運営状況報告!$F15 -> 0 | W4: =運営状況報告!$J15 -> 0 | X4: =運営状況報告!$M15 -> 0 | Y4: =運営状況報告!$Q15 -> 0 | Z4: =運営状況報告!F16 -> 0 | AA4: =運営状況報告!$O16 -> 0 | AB4: =運営状況報告!$R16 -> 0 | AC4: =運営状況報告!V16 -> 0 | AD4: =運営状況報告!F17 -> 0 | AE4: =運営状況報告!$O17 -> 0 | AF4: =運営状況報告!$R17 -> 0 | AG4: =運営状況報告!V17 -> 0 | AH4: =運営状況報告!F18 -> 0 | AI4: =運営状況報告!$O18 -> 0 | AJ4: =運営状況報告!$R18 -> 0 | AK4: =運営状況報告!V18 -> 0 | AL4: =運営状況報告!F19 -> 0 | AM4: =運営状況報告!$O19 -> 0 | AN4: =運営状況報告!$R19 -> 0 | AO4: =運営状況報告!V19 -> 0 | AP4: =運営状況報告!F20 -> 0 | AQ4: =運営状況報告!$O20 -> 0 | AR4: =運営状況報告!$R20 -> 0 | AS4: =運営状況報告!V20 -> 0 | AT4: =運営状況報告!F21 -> 0 | AU4: =運営状況報告!$O21 -> 0 | AV4: =運営状況報告!$R21 -> 0 | AW4: =運営状況報告!V21 -> 0 | AX4: =運営状況報告!F23 -> 0 | AY4: =運営状況報告!I23 -> 0 | AZ4: =運営状況報告!L23 -> 0 | BA4: =運営状況報告!P23 -> 0 | BB4: =運営状況報告!F24 -> 0 | BC4: =運営状況報告!J24 -> 0 | BD4: =運営状況報告!N24 -> 0 | BE4: =運営状況報告!R24 -> 0 | BF4: =運営状況報告!V24 -> 0 | BG4: =運営状況報告!F25 -> 0 | BH4: =運営状況報告!Z25 -> 0 | BI4: =運営状況報告!J25 -> 0 | BJ4: =運営状況報告!M25 -> 0 | BK4: =運営状況報告!$F28 -> 0 | BL4: =運営状況報告!$F30 -> 0 | BM4: =運営状況報告!$F32 -> 0 | BN4: =運営状況報告!$F34 -> 0 | BO4: =運営状況報告!$F36 -> 0 | BP4: =運営状況報告!$F38 -> 0 | BQ4: =運営状況報告!$F40 -> 0 | BR4: =運営状況報告!$F42 -> 0 | BS4: =運営状況報告!$J28 -> 0 | BT4: =運営状況報告!$J30 -> 0 | BU4: =運営状況報告!$J32 -> 0 | BV4: =運営状況報告!$J34 -> 0 | BW4: =運営状況報告!$J36 -> 0 | BX4: =運営状況報告!$J38 -> 0 | BY4: =運営状況報告!$J40 -> 0 | BZ4: =運営状況報告!$J42 -> 0 | CA4: =運営状況報告!$N28 -> 0 | CB4: =運営状況報告!$N30 -> 0 | CC4: =運営状況報告!$N32 -> 0 | CD4: =運営状況報告!$N34 -> 0 | CE4: =運営状況報告!$N36 -> 0 | CF4: =運営状況報告!$N38 -> 0 | CG4: =運営状況報告!$N40 -> 0 | CH4: =運営状況報告!$N42 -> 0 | CI4: =運営状況報告!$R28 -> 0 | CJ4: =運営状況報告!$R30 -> 0 | CK4: =運営状況報告!$R32 -> 0 | CL4: =運営状況報告!$R34 -> 0 | CM4: =運営状況報告!$R36 -> 0 | CN4: =運営状況報告!$R38 -> 0 | CO4: =運営状況報告!$R40 -> 0 | CP4: =運営状況報告!$R42 -> 0 | CQ4: =運営状況報告!X29 -> 0 | CR4: =運営状況報告!X31 -> 0 | CS4: =運営状況報告!X33 -> 0 | CT4: =運営状況報告!Y34 -> 0 | CU4: =運営状況報告!X35 -> 0 | CV4: =運営状況報告!W36 -> 0 | CW4: =運営状況報告!X37 -> 0 | CX4: =運営状況報告!W38 -> 0 | CY4: =運営状況報告!X39 -> 0 | CZ4: =運営状況報告!W40 -> 0 | DA4: =運営状況報告!X41 -> 0 | DB4: =運営状況報告!W42 -> 0 | DC4: =運営状況報告!X43 -> 0 | DD4: =運営状況報告!$F46 -> 0 | DE4: =運営状況報告!$K46 -> 0 | DF4: =運営状況報告!$Q46 -> 0 | DG4: =運営状況報告!$W46 -> 0 | DH4: =運営状況報告!$F48 -> 0 | DI4: =運営状況報告!$K48 -> 0 | DJ4: =運営状況報告!$Q48 -> 0 | DK4: =運営状況報告!$W48 -> 0 | DL4: =運営状況報告!J53 -> 0 | DM4: =運営状況報告!L53 -> 0 | DN4: =運営状況報告!N53 -> 0 | DO4: =運営状況報告!P53 -> 0 | DP4: =運営状況報告!R53 -> 0 | DQ4: =運営状況報告!T53 -> 0 | DR4: =運営状況報告!V53 -> 0 | DS4: =運営状況報告!X53 -> 0 | DT4: =運営状況報告!Z53 -> 0 | DU4: =運営状況報告!J54 -> 0 | DV4: =運営状況報告!L54 -> 0 | DW4: =運営状況報告!N54 -> 0 | DX4: =運営状況報告!P54 -> 0 | DY4: =運営状況報告!R54 -> 0 | DZ4: =運営状況報告!T54 -> 0 | EA4: =運営状況報告!V54 -> 0 | EB4: =運営状況報告!X54 -> 0 | EC4: =運営状況報告!Z54 -> 0 | ED4: =運営状況報告!J55 -> 0 | EE4: =運営状況報告!L55 -> 0 | EF4: =運営状況報告!N55 -> 0 | EG4: =運営状況報告!P55 -> 0 | EH4: =運営状況報告!R55 -> 0 | EI4: =運営状況報告!T55 -> 0 | EJ4: =運営状況報告!V55 -> 0 | EK4: =運営状況報告!X55 -> 0 | EL4: =運営状況報告!Z55 -> 0 | EM4: =運営状況報告!J56 -> 0 | EN4: =運営状況報告!L56 -> 0 | EO4: =運営状況報告!N56 -> 0 | EP4: =運営状況報告!P56 -> 0 | EQ4: =運営状況報告!R56 -> 0 | ER4: =運営状況報告!T56 -> 0 | ES4: =運営状況報告!V56 -> 0 | ET4: =運営状況報告!X56 -> 0 | EU4: =運営状況報告!Z56 -> 0 | EV4: =運営状況報告!J57 -> 0 | EW4: =運営状況報告!L57 -> 0 | EX4: =運営状況報告!N57 -> 0 | EY4: =運営状況報告!P57 -> 0 | EZ4: =運営状況報告!R57 -> 0 | FA4: =運営状況報告!T57 -> 0 | FB4: =運営状況報告!V57 -> 0 | FC4: =運営状況報告!X57 -> 0 | FD4: =運営状況報告!Z57 -> 0 | FE4: =運営状況報告!J58 -> 0 | FF4: =運営状況報告!L58 -> 0 | FG4: =運営状況報告!N58 -> 0 | FH4: =運営状況報告!P58 -> 0 | FI4: =運営状況報告!R58 -> 0 | FJ4: =運営状況報告!T58 -> 0 | FK4: =運営状況報告!V58 -> 0 | FL4: =運営状況報告!X58 -> 0 | FM4: =運営状況報告!Z58 -> 0 | FN4: =運営状況報告!J62 -> 0 | FO4: =運営状況報告!L62 -> 0 | FP4: =運営状況報告!N62 -> 0 | FQ4: =運営状況報告!P62 -> 0 | FR4: =運営状況報告!R62 -> 0 | FS4: =運営状況報告!T62 -> 0 | FT4: =運営状況報告!V62 -> 0 | FU4: =運営状況報告!X62 -> 0 | FV4: =運営状況報告!Z62 -> 0 | FW4: =運営状況報告!J63 -> 0 | FX4: =運営状況報告!L63 -> 0 | FY4: =運営状況報告!N63 -> 0 | FZ4: =運営状況報告!P63 -> 0 | GA4: =運営状況報告!R63 -> 0 | GB4: =運営状況報告!T63 -> 0 | GC4: =運営状況報告!V63 -> 0 | GD4: =運営状況報告!X63 -> 0 | GE4: =運営状況報告!Z63 -> 0 | GF4: =運営状況報告!J64 -> 0 | GG4: =運営状況報告!L64 -> 0 | GH4: =運営状況報告!N64 -> 0 | GI4: =運営状況報告!P64 -> 0 | GJ4: =運営状況報告!R64 -> 0 | GK4: =運営状況報告!T64 -> 0 | GL4: =運営状況報告!V64 -> 0 | GM4: =運営状況報告!X64 -> 0 | GN4: =運営状況報告!Z64 -> 0 | GO4: =運営状況報告!J65 -> 0 | GP4: =運営状況報告!L65 -> 0 | GQ4: =運営状況報告!N65 -> 0 | GR4: =運営状況報告!P65 -> 0 | GS4: =運営状況報告!R65 -> 0 | GT4: =運営状況報告!T65 -> 0 | GU4: =運営状況報告!V65 -> 0 | GV4: =運営状況報告!X65 -> 0 | GW4: =運営状況報告!Z65 -> 0 | GX4: =運営状況報告!J66 -> 0 | GY4: =運営状況報告!L66 -> 0 | GZ4: =運営状況報告!N66 -> 0 | HA4: =運営状況報告!P66 -> 0 | HB4: =運営状況報告!R66 -> 0 | HC4: =運営状況報告!T66 -> 0 | HD4: =運営状況報告!V66 -> 0 | HE4: =運営状況報告!X66 -> 0 | HF4: =運営状況報告!Z66 -> 0 | HG4: =運営状況報告!J67 -> 0 | HH4: =運営状況報告!L67 -> 0 | HI4: =運営状況報告!N67 -> 0 | HJ4: =運営状況報告!P67 -> 0 | HK4: =運営状況報告!R67 -> 0 | HL4: =運営状況報告!T67 -> 0 | HM4: =運営状況報告!V67 -> 0 | HN4: =運営状況報告!X67 -> 0 | HO4: =運営状況報告!Z67 -> 0 | HP4: =運営状況報告!J68 -> 0 | HQ4: =運営状況報告!L68 -> 0 | HR4: =運営状況報告!N68 -> 0 | HS4: =運営状況報告!P68 -> 0 | HT4: =運営状況報告!R68 -> 0 | HU4: =運営状況報告!T68 -> 0 | HV4: =運営状況報告!V68 -> 0 | HW4: =運営状況報告!X68 -> 0 | HX4: =運営状況報告!Z68 -> 0 | HY4: =運営状況報告!J69 -> 0 | HZ4: =運営状況報告!L69 -> 0 | IA4: =運営状況報告!N69 -> 0 | IB4: =運営状況報告!P69 -> 0 | IC4: =運営状況報告!R69 -> 0 | ID4: =運営状況報告!T69 -> 0 | IE4: =運営状況報告!V69 -> 0 | IF4: =運営状況報告!X69 -> 0 | IG4: =運営状況報告!Z69 -> 0 | IH4: =運営状況報告!J71 -> 0 | II4: =運営状況報告!L71 -> 0 | IJ4: =運営状況報告!N71 -> 0 | IK4: =運営状況報告!P71 -> 0 | IL4: =運営状況報告!R71 -> 0 | IM4: =運営状況報告!T71 -> 0 | IN4: =運営状況報告!V71 -> 0 | IO4: =運営状況報告!X71 -> 0 | IP4: =運営状況報告!Z71 -> 0 | IQ4: =運営状況報告!B73 -> 0 | IR4: =運営状況報告!B74 -> 0 | IS4: =運営状況報告!B75 -> 0 | IT4: =運営状況報告!B76 -> 0 | IU4: =運営状況報告!B77 -> 0 | IV4: =運営状況報告!B78 -> 0 | IW4: =運営状況報告!B79 -> 0 | IX4: =運営状況報告!B80 -> 0 | IY4: =運営状況報告!B81 -> 0 | IZ4: =運営状況報告!B82 -> 0 | JA4: =運営状況報告!B83 -> 0 | JB4: =運営状況報告!B84 -> 0 | JC4: =運営状況報告!B85 -> 0 | JD4: =運営状況報告!B86 -> 0 | JE4: =運営状況報告!J87 -> 0 | JF4: =運営状況報告!B89 -> 0 | JG4: =運営状況報告!B90 -> 0 | JH4: =運営状況報告!B91 -> 0 | JI4: =運営状況報告!B92 -> 0 | JJ4: =運営状況報告!B93 -> 0 | JK4: =運営状況報告!E93 -> 0 | JL4: =運営状況報告!B94 -> 0 | JM4: =運営状況報告!G96 -> 0 | JN4: =運営状況報告!N96 -> 0 | JO4: =運営状況報告!K97 -> 0 | JP4: =運営状況報告!P97 -> 0 | JQ4: =運営状況報告!T97 -> 0 | JR4: =運営状況報告!W97 -> 0 | JS4: =運営状況報告!K98 -> 0 | JT4: =運営状況報告!M99 -> 0 | JU4: =運営状況報告!L100 -> 0 | JV4: =運営状況報告!L101 -> 0 | JW4: =運営状況報告!L102 -> 0 | JX4: =運営状況報告!L103 -> 0 | JY4: =運営状況報告!Z104 -> 0 | JZ4: =運営状況報告!G104 -> 0 | KA4: =運営状況報告!J104 -> 0 | KB4: =運営状況報告!M104 -> 0 | KC4: =運営状況報告!P104 -> 0 | KD4: =運営状況報告!T104 -> 0 | KE4: =運営状況報告!W104 -> 0 | KF4: =運営状況報告!G105 -> 0 | KG4: =運営状況報告!K105 -> 0 | KH4: =運営状況報告!K106 -> 0 | KI4: =運営状況報告!N106 -> 0 | KJ4: =運営状況報告!P106 -> 0 | KK4: =運営状況報告!K107 -> 0 | KL4: =運営状況報告!N107 -> 0 | KM4: =運営状況報告!P107 -> 0 | KN4: =運営状況報告!K108 -> 0 | KO4: =運営状況報告!N108 -> 0 | KP4: =運営状況報告!P108 -> 0 | KQ4: =運営状況報告!AA109 -> 0 | KR4: =運営状況報告!AA110 -> 0 | KS4: =運営状況報告!AA111 -> 0 | KT4: =運営状況報告!AA112 -> 0 | KU4: =運営状況報告!AA113 -> 0 | KV4: =運営状況報告!AA114 -> 0 | KW4: =運営状況報告!AA115 -> 0 | KX4: =運営状況報告!AA116 -> 0 | KY4: =運営状況報告!AA117 -> 0 | KZ4: =運営状況報告!I117 -> 0 | LA4: =運営状況報告!AA118 -> 0 | LB4: =運営状況報告!G119 -> 0 | LC4: =運営状況報告!I119 -> 0 | LD4: =運営状況報告!K119 -> 0 | LE4: =運営状況報告!M119 -> 0 | LF4: =運営状況報告!O119 -> 0 | LG4: =運営状況報告!R119 -> 0 | LH4: =運営状況報告!U119 -> 0 | LI4: =運営状況報告!G120 -> 0 | LJ4: =運営状況報告!J120 -> 0 | LK4: =運営状況報告!M120 -> 0 | LL4: =運営状況報告!R120 -> 0 | LM4: =運営状況報告!U120 -> 0 | LN4: =運営状況報告!J121 -> 0 | LO4: =運営状況報告!P121 -> 0 | LP4: =運営状況報告!J122 -> 0 | LQ4: =運営状況報告!P122 -> 0 | LR4: =運営状況報告!G123 -> 0 | LS4: =運営状況報告!L123 -> 0 | LT4: =運営状況報告!T123 -> 0 | LU4: =運営状況報告!W123 -> 0 | LV4: =運営状況報告!G124 -> 0 | LW4: =運営状況報告!M124 -> 0 | LX4: =運営状況報告!P124 -> 0 | LY4: =運営状況報告!G125 -> 0 | LZ4: =運営状況報告!I125 -> 0 | MA4: =運営状況報告!L125 -> 0 | MB4: =運営状況報告!O125 -> 0 | MC4: =運営状況報告!R125 -> 0 | MD4: =運営状況報告!AA126 -> 0 | ME4: =運営状況報告!AA127 -> 0 | MF4: =運営状況報告!AA128 -> 0 | MG4: =運営状況報告!AA129 -> 0 | MH4: =運営状況報告!AA130 -> 0 | MI4: =運営状況報告!I131 -> 0 | MJ4: =運営状況報告!I132 -> 0 | MK4: =運営状況報告!I133 -> 0 | ML4: =運営状況報告!AA134 -> 0 | MM4: =運営状況報告!AA135 -> 0 | MN4: =運営状況報告!AA136 -> 0 | MO4: =運営状況報告!G137 -> 0 | MP4: =運営状況報告!K137 -> 0 | MQ4: =運営状況報告!N137 -> 0 | MR4: =運営状況報告!R137 -> 0 | MS4: =運営状況報告!V137 -> 0 | MT4: =運営状況報告!AA138 -> 0 | MU4: =運営状況報告!AA139 -> 0 | MV4: =運営状況報告!AA140 -> 0 | MW4: =運営状況報告!G141 -> 0 | MX4: =運営状況報告!K142 -> 0 | MY4: =運営状況報告!S142 -> 0 | MZ4: =運営状況報告!G145 -> 0 | NA4: =運営状況報告!J145 -> 0 | NB4: =運営状況報告!I146 -> 0 | NC4: =運営状況報告!Q147 -> 0 | ND4: =運営状況報告!P147 -> 0 | NE4: =運営状況報告!X147 -> 0 | NF4: =運営状況報告!AA148 -> 0 | NG4: =運営状況報告!AA149 -> 0 | NH4: =運営状況報告!K150 -> 0 | NI4: =運営状況報告!AA151 -> 0 | NJ4: =運営状況報告!AA152 -> 0 | NK4: =運営状況報告!L153 -> 0 | NL4: =運営状況報告!AA154 -> 0 | NM4: =運営状況報告!AA155 -> 0 | NN4: =運営状況報告!L156 -> 0

Sheet list（※編集・削除せず、そのまま提出してください。）
A1: 千代田区 | C1: 有 | D1: 実施 | E1: ✓
A2: 中央区 | C2: 無 | D2: 未実施
A3: 港区
A4: 新宿区
A5: 文京区
A6: 台東区
A7: 墨田区
A8: 江東区
A9: 品川区
A10: 目黒区
A11: 大田区
A12: 世田谷区
A13: 渋谷区
A14: 中野区
... A62: 小笠原村
