Workbook

Sheet 運営状況報告
A1: 別記第４号様式の２①（事業所） | Q1: 施設番号
A2: 居宅訪問型保育事業 運営状況報告（事業所） | U2: （令和８年10月１日現在）
A3: 記入担当者 | F3: 氏名 | R3: TEL
A4: ① | B4: 事業所の名称
A5: ② | B5: 事業所所在地 | F5: 〒 | S5: TEL
F6: 東京都世田谷区
F7: 最寄駅 | M7: 線 | R7: 駅 | S7: ( | U7: バス | X7: 徒歩 | AB7: 分)
A8: ③ | B8: 設置主体 | G8: 株式 会社 | J8: 社会福祉法人 | M8: NPO 法人 | P8: その他 法人 | S8: 任意 団体 | V8: その他( | AB8: )
A9: ④ | B9: 設置者名
A10: ⑤ | B10: 設置者住所 | F10: 〒 | K10: ☎ | R10: メール アドレス
A12: ⑥ | B12: 代表者名 | F12: （氏名） | R12: （職名）
A13: ⑦ | B13: 管理者名 | F13: （氏名） | R13: （職名）
A14: ⑧ | B14: 管理者住所 | F14: 〒 | K14: ☎ | R14: メール アドレス
A16: ⑨ | B16: 事業開始年月日 | F16: 西暦 | K16: 年 | N16: 月 | Q16: 日 | V16: （ | W16: =DATE(H16,L16,O16) -> #NUM! | AB16: )
A17: ⑩ | B17: 系列事業所 | G17: 有 | H17: → | I17: 系列事 業所数 | M17: か所（ | P17: 直営 | S17: FC) | U17: うち 都内 | Y17: か所 | AB17: 無
A19: ⑪ | B19: 保育提供可能時間 | F19: 通常保育提供可能時間 | M19: 時間外保育提供可能時間 | T19: 備考
C20: 平日 | I20: ～ | P20: ～
C21: 土曜日 | I21: ～ | P21: ～
C22: 日・祝日 | I22: ～ | P22: ～
A23: ⑫ | B23: 提供する サービス内容 | G23: 月極契約 | L23: (対象年齢 | Q23: 歳 | T23: 月～ | X23: 歳） | Y23: ※1) 0歳児の場合は、月齢まで記入すること。
G24: 定期契約 | L24: (対象年齢 | Q24: 歳 | T24: 月～ | X24: 歳）
B25: ※提供しているサービス内容にチェックを付けてください | G25: 一時預かり | L25: (対象年齢 | Q25: 歳 | T25: 月～ | X25: 歳）
G26: 夜間保育 | L26: (対象年齢 | Q26: 歳 | T26: 月～ | X26: 歳） | Y26: ※2) サービスの内容は、「記載上の注意」により分類すること。
G27: 24時間保育 | L27: (対象年齢 | Q27: 歳 | T27: 月～ | X27: 歳）
G28: ( | K28: ) | L28: (対象年齢 | Q28: 歳 | T28: 月～ | X28: 歳）
A29: ⑬ | B29: 利用料金設定状況 | G29: 月単位 | K29: 週単位 | O29: 日単位 | S29: 時間単位 | W29: 日中夜間別
G30: 所得別 | K30: その他（ | X30: ） | AA30: 設定なし
A31: ⑭-1 | C31: 利用形態 | F31: 月極額 | J31: 定期契約 | N31: 一時預かり | V31: その他
C32: 年齢 | F32: 単位（月） | J32: 単位(時間） | N32: 単位(時間） | R32: （ | U32: ）
C33: 0歳児 | I33: 円 | M33: 円 | Q33: 円 | U33: 円 | V33: ・ | W33: 食事代
AB34: 円
C35: 1歳児 | I35: 円 | M35: 円 | Q35: 円 | U35: 円 | V35: ・ | W35: 入会金
A36: 利用料金 | AA36: 円 | AB36: 円
C37: 2歳児 | I37: 円 | M37: 円 | Q37: 円 | U37: 円 | V37: ・ | W37: キャンセル料
AB38: 円
C39: 3歳児 | I39: 円 | M39: 円 | Q39: 円 | U39: 円 | V39: ・ | W39: 交通費
AB40: 円
C41: 4歳児 | I41: 円 | M41: 円 | Q41: 円 | U41: 円 | V41: ・
AB42: 円
C43: 5歳児 | I43: 円 | M43: 円 | Q43: 円 | U43: 円 | V43: ・
AB44: 円
C45: 6歳以上 （就学前） | I45: 円 | M45: 円 | Q45: 円 | U45: 円 | V45: ・
AB46: 円
C47: 学童 | I47: 円 | M47: 円 | Q47: 円 | U47: 円 | V47: ・
AB48: 円
A49: ⑭-2 | F49: 早朝 | K49: 日中 | Q49: 夜間 | W49: 深夜
F50: 5時～8時 | K50: 8時～18時 | Q50: 18時～22時 | W50: 22時～5時
A51: 利用料金 | C51: 会員 | J51: 円 | P51: 円 | V51: 円 | AB51: 円
C52: （入会し常態的に利用する者）
C53: 非会員 | J53: 円 | P53: 円 | V53: 円 | AB53: 円
A54: 単位 （時間） | C54: （一般的に 利用する者）
A56: ⑮ | B56: 定員（人） | J56: 0歳児 | L56: 1歳児 | N56: 2歳児 | P56: 3歳児 | R56: 4歳児 | T56: 5歳児 | V56: 6歳以上 (就学前) | X56: 学童 | Z56: 計
Z57: =SUM(F57:Y57) -> 0
A59: ⑯届出年月日の前日(記入日前日)において保育した児童の人数 | AB59: （令和８年10月１日現在）
A60: 年齢 | J60: 0歳児 | L60: 1歳児 | N60: 2歳児 | P60: 3歳児 | R60: 4歳児 | T60: 5歳児 | V60: 6歳以上 (就学前) | X60: 学童 | Z60: 計
A61: 保育提供時間
A62: ２時間以下 | Z62: =SUM(J62:Y62) -> 0
A63: ２時間～４時間以下 | Z63: =SUM(J63:Y63) -> 0
A64: ４時間～６時間以下 | Z64: =SUM(J64:Y64) -> 0
A65: ６時間～８時間以下 | Z65: =SUM(J65:Y65) -> 0
A66: ８時間～ | Z66: =SUM(J66:Y66) -> 0
A67: 計 | J67: =SUM(J62:K66) -> 0 | L67: =SUM(L62:M66) -> 0 | N67: =SUM(N62:O66) -> 0 | P67: =SUM(P62:Q66) -> 0 | R67: =SUM(R62:S66) -> 0 | T67: =SUM(T62:U66) -> 0 | V67: =SUM(V62:W66) -> 0 | X67: =SUM(X62:Y66) -> 0 | Z67: =SUM(J67:Y67) -> 0
A69: ⑰時間帯別の利用児童数（月極め・定期契約・一時預かりを含めた延べ数で記入してください。）
C70: 年齢 | J70: 0歳児 | L70: 1歳児 | N70: 2歳児 | P70: 3歳児 | R70: 4歳児 | T70: 5歳児 | V70: 6歳以上 (就学前) | X70: 学童 | Z70: 計
A71: 保育提供時間
A72: 7:00～8:59 | Z72: =SUM(J72:Y72) -> 0
A73: 9:00～16:59 | Z73: =SUM(J73:Y73) -> 0
A74: 17:00～17:59 | Z74: =SUM(J74:Y74) -> 0
A75: 18:00～18:59 | Z75: =SUM(J75:Y75) -> 0
A76: 19:00～19:59 | Z76: =SUM(J76:Y76) -> 0
A77: 20:00～21:59 | Z77: =SUM(J77:Y77) -> 0
A78: 22:00～23:59 | Z78: =SUM(J78:Y78) -> 0
A79: 0:00～6:59 | Z79: =SUM(J79:Y79) -> 0
A80: 上記のうち主たる保育時間である11時間について再掲（実数）
A81: ： | E81: ～ | F81: ： | Z81: =SUM(J81:Y81) -> 0
A82: ⑱職務に従事している職員の配置数 | AB82: （令和８年10月１日現在）
A83: A事業所長 | I83: Ｂ 保育従事者（Ａを除く） | W83: C合計(A+B)
C84: =COUNTA(B85,E85) -> 0 | F84: 人 | M84: =SUM(L85,S85) -> 0 | P84: 人 | X84: =SUM(C84,M84) -> 0 | AA84: 人
C85: 常勤 | F85: 非常勤 | I85: 常勤 | N85: 人 | P85: 非常勤 | U85: 人 | W85: 常勤 | Z85: 非常勤
A86: 資格の有無等 | B86: ・保育業務への従事
C87: 従事している | I87: 保育士 | O87: 人 | P87: 保育士 | V87: 人 | X87: =IF(B85="✓",1,0)+L85 -> 0 | Y87: 人 | AA87: =IF(E85="✓",1,0)+S85 -> 0 | AB87: 人
C88: 従事していない | I88: 看護師 | O88: 人 | P88: 看護師 | V88: 人
B89: ・資格(保育に従事している場合選択） | I89: (公社)全国保育サービス協会の認定ベビーシッター | O89: 人 | P89: (公社)全国保育サービス協会の認定ベビーシッター | V89: 人
C90: 保育士
C91: 看護師 | I91: ⑳記載の研修修了者 | O91: 人 | P91: ⑳記載の研修修了者 | V91: 人
C92: (公社)全国保育サービス協会の認定ベビーシッター | I92: 該当資格・研修受講なし | O92: 人 | P92: 該当資格・研修受講なし | V92: 人
C93: 該当資格なし
A94: ⑲職務に従事している職員の配置予定数（平均的な職員配置） | AB94: （令和８年10月１日現在）
A95: A事業所長 | I95: Ｂ 保育従事者（Ａを除く） | W95: C合計(A+B)
C96: =COUNTA(B97,E97) -> 0 | F96: 人 | M96: =SUM(L97,S97) -> 0 | P96: 人 | X96: =SUM(C96,M96) -> 0 | AA96: 人
C97: 常勤 | F97: 非常勤 | I97: 常勤 | N97: 人 | P97: 非常勤 | U97: 人 | W97: 常勤 | Z97: 非常勤
A98: 資格の有無等 | B98: ・保育業務への従事
C99: 従事している | I99: 保育士 | O99: 人 | P99: 保育士 | V99: 人 | X99: =IF(B97="✓",1,0)+L97 -> 0 | Y99: 人 | AA99: =IF(E97="✓",1,0)+S97 -> 0 | AB99: 人
C100: 従事していない | I100: 看護師 | O100: 人 | P100: 看護師 | V100: 人
B101: ・資格(保育に従事している場合選択） | I101: (公社)全国保育サービス協会の認定ベビーシッター | O101: 人 | P101: (公社)全国保育サービス協会の認定ベビーシッター | V101: 人
C102: 保育士
C103: 看護師 | I103: ⑳記載の研修修了者 | O103: 人 | P103: ⑳記載の研修修了者 | V103: 人
C104: (公社)全国保育サービス協会の認定ベビーシッター | I104: 該当資格・研修受講なし | O104: 人 | P104: 該当資格・研修受講なし | V104: 人
C105: 該当資格なし
A107: ＜⑳の記入方法＞ 複数の項目に該当する者（有資格者で研修も修了している、研修を複数修了している等）については、いずれかの項目にのみ計上すること。その際、有資格者については有資格者（保育士、看護師、准看護師、保健師、助産師）の欄に計上すること。
...

Sheet 集計（※編集・削除せず、そのまま提出してください。）
A1: 施設番号 | B1: 施設名称 | C1: 記入者 | D1: 連絡先 | E1: 所在地 | H1: 施設連絡先 | I1: 設置者名 | J1: 設置者住所･連絡先 | P1: 事業開始年月日 | Q1: 平日 | U1: 土曜日 | Y1: 日曜日・祝日 | AC1: 月極契約 | AG1: 定期契約 | AK1: 一時預かり | AO1: 夜間保育 | AS1: 24時間保育 | AW1: その他 | BA1: 利用料金 | CG1: 利用料金以外の実費 | CS1: 利用料金 | DA1: 保育している児童の人数 | FC1: 時間帯別の在籍児童数 | IF1: 事業所に在籍している保育従事者数 | IV1: 保険加入状況 | JD1: 提携医療機関 | JH1: 保育計画の策定 | JO1: 研修等の参加状況 | JZ1: 安全管理・事故防止の取組状況 | KC1: 保護者との連絡状況 | KG1: 保護者及び利用希望者の事前の面接 | KH1: 利用開始時の健康状態観察 | KP1: 利用開始時の個別検査 | KV1: 児童の健康診断 | KZ1: ケガや病気の時の措置 | LD1: 職員の健康診断 | LL1: 検便 | LQ1: 乳幼児突然死症候群に対する注意 | LT1: 安全確保 | LW1: 利用者等への情報提供 | LZ1: 児童票の作成状況 | ME1: 帳簿の作成、整備状況 | MJ1: マッチングサイトへの登録状況 | MM1: 行政処分 | MS1: 緊急時等における対応方法 | MT1: 非常災害対策の取組み | MU1: 虐待防止の取組み | MX1: こども性暴力防止法の施行に伴うこども家庭庁への認定申請の意向（任意）
E2: 〒 | F2: 住所 | H2: tel | J2: 〒 | K2: 住所 | N2: tel | O2: メール | Q2: 通常 | S2: 時間外 | U2: 通常 | W2: 時間外 | Y2: 通常 | AA2: 時間外 | AC2: 実施 | AD2: 下限 | AF2: 上限 | AG2: 実施 | AH2: 下限 | AJ2: 上限 | AK2: 実施 | AL2: 下限 | AN2: 上限 | AO2: 実施 | AP2: 下限 | AR2: 上限 | AS2: 実施 | AT2: 下限 | AV2: 上限 | AW2: 実施 | AX2: 下限 | AZ2: 上限 | BA2: 月極契約 | BI2: 定期契約 | BQ2: 一時預かり | BY2: その他 | CG2: 食事代 | CH2: 入会金 | CI2: キャンセル料 | CJ2: 交通費 | CK2: その他１ | CM2: その他２ | CO2: その他３ | CQ2: その他４ | CS2: 会員 | CW2: 非会員 | DA2: 2時間以下 | DJ2: ２時間～４時間以下 | DS2: ４時間～６時間以下 | EB2: ６時間～８時間以下 | EK2: ８時間～ | ET2: 計 | FC2: 7:00～8:59 | FL2: 9:00～16:59 | FU2: 17:00～17:59 | GD2: 18:00～18:59 | GM2: 19:00～19:59 | GV2: 20:00～21:59 | HE2: 22:00～23:59 | HN2: 0:00～6:59 | HW2: 主たる11時間 | IX2: 保険種類 | JB2: 保険事故(内容) | JC2: 保険金額 | JD2: 機関名 | JE2: 所在地 | JF2: tel | JG2: 提携内容 | JH2: 有無 | JI2: 計画の種別 | JO2: 有無 | JQ2: 研修名等 | JT2: 研修名等 | JW2: 研修名等 | JZ2: 研修の実施回数 | KA2: 職員への周知 | KB2: 緊急時の連絡体制 | KC2: 連絡帳の作成 | KD2: 緊急連絡表の作成 | KE2: その他 | KF2: その他の内容 | KH2: 有無 | KI2: 体温 | KJ2: 排便 | KK2: 食事 | KL2: 睡眠 | KM2: 顔ぼう | KN2: その他 | KO2: その他の内容 | KP2: 有無 | KQ2: 服装 | KR2: 外傷 | KS2: 清潔 | KT2: その他 | KU2: その他の内容 | KV2: 利用開始時 | KX2: 利用開始後 | KZ2: 保護者連絡 | LA2: 医療機関受診 | LB2: その他 | LC2: その他の内容 | LD2: 採用時 | LH2: 採用後 | LL2: 有無 | LM2: 毎月 | LN2: 隔月 | LO2: その他 | LP2: 回数 | LQ2: 観察 | LR2: 仰向け寝 | LS2: 禁煙 | LT2: 安全対策 | LU2: 事故防止 | LV2: 緊急対策 | LW2: 掲示 | LX2: 書面交付 | LY2: 契約説明 | LZ2: 家庭状況 | MA2: 既往症 | MB2: 健康状況 | MC2: 成長記録 | MD2: 健康診断記録 | ME2: 職員名簿 | MF2: 資格証明書 | MG2: 研修修了書 | MH2: 児童利用状況表 | MI2: 雇用状況 | MJ2: 有無 | MK2: サイト名 | ML2: URL | MM2: 命令の有無 | MO2: 命令の種別 | MQ2: 都道府県 | MR2: 命令年月日 | MU2: マニュアル | MV2: 研修受講 | MW2: その他 | MX2: 1.申請予定 2.検討中 3.申請しない
K3: 区市町村 | L3: 番地 | M3: 建物名・階数・号室 | Q3: 始 | R3: 終 | S3: 始 | T3: 終 | U3: 始 | V3: 終 | W3: 始 | X3: 終 | Y3: 始 | Z3: 終 | AA3: 始 | AB3: 終 | AD3: 歳 | AE3: 月 | AF3: 歳 | AH3: 歳 | AI3: 月 | AJ3: 歳 | AL3: 歳 | AM3: 月 | AN3: 歳 | AP3: 歳 | AQ3: 月 | AR3: 歳 | AT3: 歳 | AU3: 月 | AV3: 歳 | AX3: 歳 | AY3: 月 | AZ3: 歳 | BA3: 0歳 | BB3: 1歳 | BC3: 2歳 | BD3: 3歳 | BE3: 4歳 | BF3: 5歳 | BG3: 6歳(未就学) | BH3: 学童 | BI3: 0歳 | BJ3: 1歳 | BK3: 2歳 | BL3: 3歳 | BM3: 4歳 | BN3: 5歳 | BO3: 6歳(未就学) | BP3: 学童 | BQ3: 0歳 | BR3: 1歳 | BS3: 2歳 | BT3: 3歳 | BU3: 4歳 | BV3: 5歳 | BW3: 6歳(未就学) | BX3: 学童 | BY3: 0歳 | BZ3: 1歳 | CA3: 2歳 | CB3: 3歳 | CC3: 4歳 | CD3: 5歳 | CE3: 6歳(未就学) | CF3: 学童 | CG3: 金額 | CH3: 金額 | CI3: 金額 | CJ3: 金額 | CK3: 内容 | CL3: 金額 | CM3: 内容 | CN3: 金額 | CO3: 内容 | CP3: 金額 | CQ3: 内容 | CR3: 金額 | CS3: 早朝 | CT3: 日中 | CU3: 夜間 | CV3: 深夜 | CW3: 早朝 | CX3: 日中 | CY3: 夜間 | CZ3: 深夜 | DA3: 0歳 | DB3: 1歳 | DC3: 2歳 | DD3: 3歳 | DE3: 4歳 | DF3: 5歳 | DG3: 6歳(就学前) | DH3: 学童 | DI3: 計 | DJ3: 0歳 | DK3: 1歳 | DL3: 2歳 | DM3: 3歳 | DN3: 4歳 | DO3: 5歳 | DP3: 6歳(就学前) | DQ3: 学童 | DR3: 計 | DS3: 0歳 | DT3: 1歳 | DU3: 2歳 | DV3: 3歳 | DW3: 4歳 | DX3: 5歳 | DY3: 6歳(就学前) | DZ3: 学童 | EA3: 計 | EB3: 0歳 | EC3: 1歳 | ED3: 2歳 | EE3: 3歳 | EF3: 4歳 | EG3: 5歳 | EH3: 6歳(就学前) | EI3: 学童 | EJ3: 計 | EK3: 0歳 | EL3: 1歳 | EM3: 2歳 | EN3: 3歳 | EO3: 4歳 | EP3: 5歳 | EQ3: 6歳(就学前) | ER3: 学童 | ES3: 計 | ET3: 0歳 | EU3: 1歳 | EV3: 2歳 | EW3: 3歳 | EX3: 4歳 | EY3: 5歳 | EZ3: 6歳(就学前) | FA3: 学童 | FB3: 計 | FC3: 0歳児 | FD3: 1歳児 | FE3: 2歳児 | FF3: 3歳児 | FG3: 4歳児 | FH3: 5歳児 | FI3: 6歳児 | FJ3: 学童 | FK3: 計 | FL3: 0歳児 | FM3: 1歳児 | FN3: 2歳児 | FO3: 3歳児 | FP3: 4歳児 | FQ3: 5歳児 | FR3: 6歳児 | FS3: 学童 | FT3: 計 | FU3: 0歳児 | FV3: 1歳児 | FW3: 2歳児 | FX3: 3歳児 | FY3: 4歳児 | FZ3: 5歳児 | GA3: 6歳児 | GB3: 学童 | GC3: 計 | GD3: 0歳児 | GE3: 1歳児 | GF3: 2歳児 | GG3: 3歳児 | GH3: 4歳児 | GI3: 5歳児 | GJ3: 6歳児 | GK3: 学童 | GL3: 計 | GM3: 0歳児 | GN3: 1歳児 | GO3: 2歳児 | GP3: 3歳児 | GQ3: 4歳児 | GR3: 5歳児 | GS3: 6歳児 | GT3: 学童 | GU3: 計 | GV3: 0歳児 | GW3: 1歳児 | GX3: 2歳児 | GY3: 3歳児 | GZ3: 4歳児 | HA3: 5歳児 | HB3: 6歳児 | HC3: 学童 | HD3: 計 | HE3: 0歳児 | HF3: 1歳児 | HG3: 2歳児 | HH3: 3歳児 | HI3: 4歳児 | HJ3: 5歳児 | HK3: 6歳児 | HL3: 学童 | HM3: 計 | HN3: 0歳児 | HO3: 1歳児 | HP3: 2歳児 | HQ3: 3歳児 | HR3: 4歳児 | HS3: 5歳児 | HT3: 6歳児 | HU3: 学童 | HV3: 計 | HW3: 0歳児 | HX3: 1歳児 | HY3: 2歳児 | HZ3: 3歳児 | IA3: 4歳児 | IB3: 5歳児 | IC3: 6歳児 | ID3: 学童 | IE3: 計 | IF3: 計 | IG3: 保育士 | IH3: 看護師 | II3: 准看護師 | IJ3: 保健師 | IK3: 助産師 | IL3: ACSA認定 | IM3: 家庭的基礎研修 | IN3: 家庭的認定研修 | IO3: 居宅基礎研修 | IP3: 子育て支援員 | IQ3: ACSA養成現任研修等 | IR3: ACSA科目履修 | IS3: 認可外居宅研修 | IT3: いづれもなし | IU3: うち１年以内 | IV3: 加入 | IW3: 未加入 | IX3: 賠償責任保険 | IY3: 傷害保険 | IZ3: その他 | JA3: その他内容 | JH3: 策定なし | JI3: 年間 | JJ3: 月案 | JK3: 週案 | JL3: デイリープログラム | JM3: 行事予定 | JN3: 保育目標 | JO3: あり | JP3: なし | JQ3: 年 | JR3: 月 | JS3: 研修名 | JT3: 年 | JU3: 月 | JV3: 研修名 | JW3: 年 | JX3: 月 | JY3: 研修名 | KV3: 診断書 | KW3: 母子健康手帳 | KX3: 診断書 | KY3: 母子健康手帳 | LD3: 事業所 | LE3: 診断書 | LF3: その他 | LG3: その他の内容 | LH3: 事業所 | LI3: 診断書 | LJ3: その他 | LK3: その他の内容 | MM3: あり | MN3: なし | MO3: 事業停止命令 | MP3: 施設閉鎖命令
A4: =運営状況報告!V1 -> 0 | B4: =運営状況報告!F4 -> 0 | C4: =運営状況報告!I3 -> 0 | D4: =運営状況報告!U3 -> 0 | E4: =運営状況報告!G5 -> 0 | F4: =運営状況報告!K6 -> 0 | G4: =運営状況報告!U6 -> 0 | H4: =運営状況報告!U5 -> 0 | I4: =運営状況報告!F9 -> 0 | J4: =運営状況報告!G10 -> 0 | K4: =運営状況報告!I11 -> 0 | L4: =運営状況報告!M11 -> 0 | M4: =運営状況報告!W11 -> 0 | N4: =運営状況報告!L10 -> 0 | O4: =運営状況報告!T10 -> 0 | P4: =運営状況報告!W16 -> #NUM! | Q4: =運営状況報告!F20 -> 0 | R4: =運営状況報告!$J20 -> 0 | S4: =運営状況報告!$M20 -> 0 | T4: =運営状況報告!$Q20 -> 0 | U4: =運営状況報告!$F21 -> 0 | V4: =運営状況報告!$J21 -> 0 | W4: =運営状況報告!$M21 -> 0 | X4: =運営状況報告!$Q21 -> 0 | Y4: =運営状況報告!$F22 -> 0 | Z4: =運営状況報告!$J22 -> 0 | AA4: =運営状況報告!$M22 -> 0 | AB4: =運営状況報告!$Q22 -> 0 | AC4: =運営状況報告!F23 -> 0 | AD4: =運営状況報告!$O23 -> 0 | AE4: =運営状況報告!R23 -> 0 | AF4: =運営状況報告!$V23 -> 0 | AG4: =運営状況報告!F24 -> 0 | AH4: =運営状況報告!$O24 -> 0 | AI4: =運営状況報告!R24 -> 0 | AJ4: =運営状況報告!$V24 -> 0 | AK4: =運営状況報告!F25 -> 0 | AL4: =運営状況報告!$O25 -> 0 | AM4: =運営状況報告!R25 -> 0 | AN4: =運営状況報告!$V25 -> 0 | AO4: =運営状況報告!F26 -> 0 | AP4: =運営状況報告!$O26 -> 0 | AQ4: =運営状況報告!R26 -> 0 | AR4: =運営状況報告!$V26 -> 0 | AS4: =運営状況報告!F27 -> 0 | AT4: =運営状況報告!$O27 -> 0 | AU4: =運営状況報告!R27 -> 0 | AV4: =運営状況報告!$V27 -> 0 | AW4: =運営状況報告!F28 -> 0 | AX4: =運営状況報告!$O28 -> 0 | AY4: =運営状況報告!R28 -> 0 | AZ4: =運営状況報告!$V28 -> 0 | BA4: =運営状況報告!$F33 -> 0 | BB4: =運営状況報告!$F35 -> 0 | BC4: =運営状況報告!$F37 -> 0 | BD4: =運営状況報告!$F39 -> 0 | BE4: =運営状況報告!$F41 -> 0 | BF4: =運営状況報告!$F43 -> 0 | BG4: =運営状況報告!$F45 -> 0 | BH4: =運営状況報告!$F47 -> 0 | BI4: =運営状況報告!$J33 -> 0 | BJ4: =運営状況報告!$J35 -> 0 | BK4: =運営状況報告!$J37 -> 0 | BL4: =運営状況報告!$J39 -> 0 | BM4: =運営状況報告!$J41 -> 0 | BN4: =運営状況報告!$J43 -> 0 | BO4: =運営状況報告!$J45 -> 0 | BP4: =運営状況報告!$J47 -> 0 | BQ4: =運営状況報告!$N33 -> 0 | BR4: =運営状況報告!$N35 -> 0 | BS4: =運営状況報告!$N37 -> 0 | BT4: =運営状況報告!$N39 -> 0 | BU4: =運営状況報告!$N41 -> 0 | BV4: =運営状況報告!$N43 -> 0 | BW4: =運営状況報告!$N45 -> 0 | BX4: =運営状況報告!$N47 -> 0 | BY4: =運営状況報告!$R33 -> 0 | BZ4: =運営状況報告!$R35 -> 0 | CA4: =運営状況報告!$R37 -> 0 | CB4: =運営状況報告!$R39 -> 0 | CC4: =運営状況報告!$R41 -> 0 | CD4: =運営状況報告!$R43 -> 0 | CE4: =運営状況報告!$R45 -> 0 | CF4: =運営状況報告!$R47 -> 0 | CG4: =運営状況報告!X34 -> 0 | CH4: =運営状況報告!X36 -> 0 | CI4: =運営状況報告!X38 -> 0 | CJ4: =運営状況報告!X40 -> 0 | CK4: =運営状況報告!$W41 -> 0 | CL4: =運営状況報告!X42 -> 0 | CM4: =運営状況報告!$W43 -> 0 | CN4: =運営状況報告!X44 -> 0 | CO4: =運営状況報告!W45 -> 0 | CP4: =運営状況報告!X46 -> 0 | CQ4: =運営状況報告!$W47 -> 0 | CR4: =運営状況報告!X48 -> 0 | CS4: =運営状況報告!$F51 -> 0 | CT4: =運営状況報告!$K51 -> 0 | CU4: =運営状況報告!$Q51 -> 0 | CV4: =運営状況報告!$W51 -> 0 | CW4: =運営状況報告!$F53 -> 0 | CX4: =運営状況報告!$K53 -> 0 | CY4: =運営状況報告!$Q53 -> 0 | CZ4: =運営状況報告!$W53 -> 0 | DA4: =運営状況報告!$J62 -> 0 | DB4: =運営状況報告!$L62 -> 0 | DC4: =運営状況報告!$N62 -> 0 | DD4: =運営状況報告!$P62 -> 0 | DE4: =運営状況報告!$R62 -> 0 | DF4: =運営状況報告!$T62 -> 0 | DG4: =運営状況報告!V62 -> 0 | DH4: =運営状況報告!X62 -> 0 | DI4: =運営状況報告!Z62 -> 0 | DJ4: =運営状況報告!$J63 -> 0 | DK4: =運営状況報告!$L63 -> 0 | DL4: =運営状況報告!$N63 -> 0 | DM4: =運営状況報告!$P63 -> 0 | DN4: =運営状況報告!$R63 -> 0 | DO4: =運営状況報告!$T63 -> 0 | DP4: =運営状況報告!$V63 -> 0 | DQ4: =運営状況報告!X63 -> 0 | DR4: =運営状況報告!Z63 -> 0 | DS4: =運営状況報告!$J64 -> 0 | DT4: =運営状況報告!$L64 -> 0 | DU4: =運営状況報告!$N64 -> 0 | DV4: =運営状況報告!$P64 -> 0 | DW4: =運営状況報告!$R64 -> 0 | DX4: =運営状況報告!$T64 -> 0 | DY4: =運営状況報告!$V64 -> 0 | DZ4: =運営状況報告!X64 -> 0 | EA4: =運営状況報告!Z64 -> 0 | EB4: =運営状況報告!$J65 -> 0 | EC4: =運営状況報告!$L65 -> 0 | ED4: =運営状況報告!$N65 -> 0 | EE4: =運営状況報告!$P65 -> 0 | EF4: =運営状況報告!$R65 -> 0 | EG4: =運営状況報告!$T65 -> 0 | EH4: =運営状況報告!$V65 -> 0 | EI4: =運営状況報告!X65 -> 0 | EJ4: =運営状況報告!Z65 -> 0 | EK4: =運営状況報告!$J66 -> 0 | EL4: =運営状況報告!$L66 -> 0 | EM4: =運営状況報告!$N66 -> 0 | EN4: =運営状況報告!$P66 -> 0 | EO4: =運営状況報告!$R66 -> 0 | EP4: =運営状況報告!$T66 -> 0 | EQ4: =運営状況報告!$V66 -> 0 | ER4: =運営状況報告!X66 -> 0 | ES4: =運営状況報告!Z66 -> 0 | ET4: =SUM(EK4,EB4,DS4,DJ4,DA4) -> 0 | EU4: =SUM(EL4,EC4,DT4,DK4,DB4) -> 0 | EV4: =SUM(EM4,ED4,DU4,DL4,DC4) -> 0 | EW4: =SUM(EN4,EE4,DV4,DM4,DD4) -> 0 | EX4: =SUM(EO4,EF4,DW4,DN4,DE4) -> 0 | EY4: =SUM(EP4,EG4,DX4,DO4,DF4) -> 0 | EZ4: =SUM(EQ4,EH4,DY4,DP4,DG4) -> 0 | FA4: =SUM(ER4,EI4,DZ4,DQ4,DH4) -> 0 | FB4: =SUM(ES4,EJ4,EA4,DR4,DI4) -> 0 | FC4: =運営状況報告!$J72 -> 0 | FD4: =運営状況報告!$L72 -> 0 | FE4: =運営状況報告!$N72 -> 0 | FF4: =運営状況報告!$P72 -> 0 | FG4: =運営状況報告!$R72 -> 0 | FH4: =運営状況報告!$T72 -> 0 | FI4: =運営状況報告!$V72 -> 0 | FJ4: =運営状況報告!$X72 -> 0 | FK4: =運営状況報告!$Z72 -> 0 | FL4: =運営状況報告!$J73 -> 0 | FM4: =運営状況報告!$L73 -> 0 | FN4: =運営状況報告!$N73 -> 0 | FO4: =運営状況報告!$P73 -> 0 | FP4: =運営状況報告!$R73 -> 0 | FQ4: =運営状況報告!$T73 -> 0 | FR4: =運営状況報告!$V73 -> 0 | FS4: =運営状況報告!$X73 -> 0 | FT4: =運営状況報告!$Z73 -> 0 | FU4: =運営状況報告!$J74 -> 0 | FV4: =運営状況報告!$L74 -> 0 | FW4: =運営状況報告!$N74 -> 0 | FX4: =運営状況報告!$P74 -> 0 | FY4: =運営状況報告!$R74 -> 0 | FZ4: =運営状況報告!$T74 -> 0 | GA4: =運営状況報告!$V74 -> 0 | GB4: =運営状況報告!$X74 -> 0 | GC4: =運営状況報告!$Z74 -> 0 | GD4: =運営状況報告!$J75 -> 0 | GE4: =運営状況報告!$L75 -> 0 | GF4: =運営状況報告!$N75 -> 0 | GG4: =運営状況報告!$P75 -> 0 | GH4: =運営状況報告!$R75 -> 0 | GI4: =運営状況報告!$T75 -> 0 | GJ4: =運営状況報告!$V75 -> 0 | GK4: =運営状況報告!$X75 -> 0 | GL4: =運営状況報告!$Z75 -> 0 | GM4: =運営状況報告!$J76 -> 0 | GN4: =運営状況報告!$L76 -> 0 | GO4: =運営状況報告!$N76 -> 0 | GP4: =運営状況報告!$P76 -> 0 | GQ4: =運営状況報告!$R76 -> 0 | GR4: =運営状況報告!$T76 -> 0 | GS4: =運営状況報告!$V76 -> 0 | GT4: =運営状況報告!$X76 -> 0 | GU4: =運営状況報告!$Z76 -> 0 | GV4: =運営状況報告!$J77 -> 0 | GW4: =運営状況報告!$L77 -> 0 | GX4: =運営状況報告!$N77 -> 0 | GY4: =運営状況報告!$P77 -> 0 | GZ4: =運営状況報告!$R77 -> 0 | HA4: =運営状況報告!$T77 -> 0 | HB4: =運営状況報告!$V77 -> 0 | HC4: =運営状況報告!$X77 -> 0 | HD4: =運営状況報告!$Z77 -> 0 | HE4: =運営状況報告!$J78 -> 0 | HF4: =運営状況報告!$L78 -> 0 | HG4: =運営状況報告!$N78 -> 0 | HH4: =運営状況報告!$P78 -> 0 | HI4: =運営状況報告!$R78 -> 0 | HJ4: =運営状況報告!$T78 -> 0 | HK4: =運営状況報告!$V78 -> 0 | HL4: =運営状況報告!$X78 -> 0 | HM4: =運営状況報告!$Z78 -> 0 | HN4: =運営状況報告!$J79 -> 0 | HO4: =運営状況報告!$L79 -> 0 | HP4: =運営状況報告!$N79 -> 0 | HQ4: =運営状況報告!$P79 -> 0 | HR4: =運営状況報告!$R79 -> 0 | HS4: =運営状況報告!$T79 -> 0 | HT4: =運営状況報告!$V79 -> 0 | HU4: =運営状況報告!$X79 -> 0 | HV4: =運営状況報告!$Z79 -> 0 | HW4: =運営状況報告!$J81 -> 0 | HX4: =運営状況報告!$L81 -> 0 | HY4: =運営状況報告!$N81 -> 0 | HZ4: =運営状況報告!$P81 -> 0 | IA4: =運営状況報告!$R81 -> 0 | IB4: =運営状況報告!$T81 -> 0 | IC4: =運営状況報告!$V81 -> 0 | ID4: =運営状況報告!$X81 -> 0 | IE4: =運営状況報告!$Z81 -> 0 | IF4: =運営状況報告!Y112 -> 0 | IG4: =運営状況報告!Y113 -> 0 | IH4: =運営状況報告!Y114 -> 0 | II4: =運営状況報告!Y115 -> 0 | IJ4: =運営状況報告!Y116 -> 0 | IK4: =運営状況報告!Y117 -> 0 | IL4: =運営状況報告!Y118 -> 0 | IM4: =運営状況報告!Y119 -> 0 | IN4: =運営状況報告!Y120 -> 0 | IO4: =運営状況報告!Y121 -> 0 | IP4: =運営状況報告!Y122 -> 0 | IQ4: =運営状況報告!Y123 -> 0 | IR4: =運営状況報告!Y124 -> 0 | IS4: =運営状況報告!Y125 -> 0 | IT4: =運営状況報告!Y126 -> 0 | IU4: =運営状況報告!Y127 -> 0 | IV4: =運営状況報告!G130 -> 0 | IW4: =運営状況報告!N130 -> 0 | IX4: =運営状況報告!K131 -> 0 | IY4: =運営状況報告!P131 -> 0 | IZ4: =運営状況報告!T131 -> 0 | JA4: =運営状況報告!W131 -> 0 | JB4: =運営状況報告!K132 -> 0 | JC4: =運営状況報告!K133 -> 0 | JD4: =運営状況報告!K134 -> 0 | JE4: =運営状況報告!K135 -> 0 | JF4: =運営状況報告!K136 -> 0 | JG4: =運営状況報告!K137 -> 0 | JH4: =運営状況報告!Z139 -> 0 | JI4: =運営状況報告!G139 -> 0 | JJ4: =運営状況報告!J139 -> 0 | JK4: =運営状況報告!M139 -> 0 | JL4: =運営状況報告!P139 -> 0 | JM4: =運営状況報告!T139 -> 0 | JN4: =運営状況報告!W139 -> 0 | JO4: =運営状況報告!G140 -> 0 | JP4: =運営状況報告!K140 -> 0 | JQ4: =運営状況報告!K141 -> 0 | JR4: =運営状況報告!N141 -> 0 | JS4: =運営状況報告!P141 -> 0 | JT4: =運営状況報告!K142 -> 0 | JU4: =運営状況報告!N142 -> 0 | JV4: =運営状況報告!P142 -> 0 | JW4: =運営状況報告!K143 -> 0 | JX4: =運営状況報告!N143 -> 0 | JY4: =運営状況報告!P143 -> 0 | JZ4: =運営状況報告!W146 -> 0 | KA4: =運営状況報告!AA147 -> 0 | KB4: =運営状況報告!AA150 -> 0 | KC4: =運営状況報告!AA151 -> 0 | KD4: =運営状況報告!AA152 -> 0 | KE4: =運営状況報告!AA153 -> 0 | KF4: =運営状況報告!I153 -> 0 | KG4: =運営状況報告!AA154 -> 0 | KH4: =運営状況報告!G155 -> 0 | KI4: =運営状況報告!I155 -> 0 | KJ4: =運営状況報告!K155 -> 0 | KK4: =運営状況報告!M155 -> 0 | KL4: =運営状況報告!O155 -> 0 | KM4: =運営状況報告!Q155 -> 0 | KN4: =運営状況報告!T155 -> 0 | KO4: =運営状況報告!W155 -> 0 | KP4: =運営状況報告!G156 -> 0 | KQ4: =運営状況報告!I156 -> 0 | KR4: =運営状況報告!L156 -> 0 | KS4: =運営状況報告!O156 -> 0 | KT4: =運営状況報告!T156 -> 0 | KU4: =運営状況報告!W156 -> 0 | KV4: =運営状況報告!J158 -> 0 | KW4: =運営状況報告!P158 -> 0 | KX4: =運営状況報告!J159 -> 0 | KY4: =運営状況報告!P159 -> 0 | KZ4: =運営状況報告!G160 -> 0 | LA4: =運営状況報告!L160 -> 0 | LB4: =運営状況報告!T160 -> 0 | LC4: =運営状況報告!X160 -> 0 | LD4: =運営状況報告!J161 -> 0 | LE4: =運営状況報告!P161 -> 0 | LF4: =運営状況報告!U161 -> 0 | LG4: =運営状況報告!X161 -> 0 | LH4: =運営状況報告!J162 -> 0 | LI4: =運営状況報告!P162 -> 0 | LJ4: =運営状況報告!U162 -> 0 | LK4: =運営状況報告!X162 -> 0 | LL4: =運営状況報告!G163 -> 0 | LM4: =運営状況報告!I163 -> 0 | LN4: =運営状況報告!L163 -> 0 | LO4: =運営状況報告!O163 -> 0 | LP4: =運営状況報告!S163 -> 0 | LQ4: =運営状況報告!AA164 -> 0 | LR4: =運営状況報告!AA165 -> 0 | LS4: =運営状況報告!AA168 -> 0 | LT4: =運営状況報告!I169 -> 0 | LU4: =運営状況報告!I170 -> 0 | LV4: =運営状況報告!I171 -> 0 | LW4: =運営状況報告!AA172 -> 0 | LX4: =運営状況報告!AA173 -> 0 | LY4: =運営状況報告!AA174 -> 0 | LZ4: =運営状況報告!G175 -> 0 | MA4: =運営状況報告!K175 -> 0 | MB4: =運営状況報告!N175 -> 0 | MC4: =運営状況報告!R175 -> 0 | MD4: =運営状況報告!V175 -> 0 | ME4: =運営状況報告!$AA176 -> 0 | MF4: =運営状況報告!$AA177 -> 0 | MG4: =運営状況報告!$AA178 -> 0 | MH4: =運営状況報告!$AA179 -> 0 | MI4: =運営状況報告!$AA180 -> 0 | MJ4: =運営状況報告!G181 -> 0 | MK4: =運営状況報告!K182 -> 0 | ML4: =運営状況報告!S182 -> 0 | MM4: =運営状況報告!G185 -> 0 | MN4: =運営状況報告!J185 -> 0 | MO4: =運営状況報告!I186 -> 0 | MP4: =運営状況報告!N186 -> 0 | MQ4: =運営状況報告!P187 -> 0 | MR4: =運営状況報告!X187 -> 0 | MU4: =運営状況報告!AA188 -> 0 | MV4: =運営状況報告!AA189 -> 0 | MW4: =運営状況報告!L190 -> 0 | MX4: =運営状況報告!G191 -> 0

Sheet list（※編集・削除せず、そのまま提出してください。）
A1: 千代田区 | C1: 有 | D1: 実施 | E1: 1
A2: 中央区 | C2: 無 | D2: 未実施 | E2: 2
A3: 港区 | E3: 3
A4: 新宿区
A5: 文京区
A6: 台東区
A7: 墨田区
A8: 江東区
A9: 品川区
A10: 目黒区
A11: 大田区
A12: 世田谷区
A13: 渋谷区
A14: 中野区
A15: 杉並区
... A62: 小笠原村
