Workbook

Sheet ①施設基本情報
D1: 別記第４号様式（施設用） | AP1: 施設番号
A2: 運営状況報告
D3: （記入担当者）
D4: 氏名 | T4: Tel | AZ4: 令和８年１０月１日現在
E5: 1 | G5: 施設の名称
E6: 2 | G6: 施設の所在地 | T6: 〒
T7: 住所 | W7: 世田谷区
T8: 最寄り駅 | AP8: 線 | AS8: 所要時間 (駅⇔施設) | AZ8: バス | BH8: 分
AP9: 駅 | AZ9: 徒歩 | BH9: 分
E10: 3 | G10: 施設連絡先 | T10: Tel | AP10: メール アドレス
T11: 緊急 連絡先 | AA11: 1.施設長携帯電話 | AX11: tel
AA12: 2.その他( | AF12: 職 | AM12: 氏名 | AW12: )
E13: 4 | G13: 設置主体 | X13: 1.株式会社 2.社会福祉法人 3.NPO法人 4.医療法人 5.その他法人 6.任意団体 7.地方公共団体 8.個人 9.その他（ | BJ13: ）
D14: ①事業所の名称 | E14: 5 | G14: 設置者名
E15: 6 | G15: 設置者住所･連絡先 | T15: 〒
T16: 住所
T17: Tel | AP17: メール アドレス | AS17: ＠
D18: ①事業所の名称 | E18: 7 | G18: 代表者職氏名 | T18: （氏名） | AP18: （職名）
D19: ①事業所の名称 | E19: 8 | G19: 管理者(施設長)名 | T19: （氏名） | AP19: （職名）
E20: 9 | G20: 管理者住所･連絡先 | T20: 〒
T21: 住所
T22: Tel | AP22: メール アドレス
D23: 10 | G23: 運営方法 | X23: (1.設置者による直営 2.保育事業者等への運営委託)
D24: 11 | G24: 委託先名称 ※「運営委託」の場合
D25: 12 | G25: 委託先住所･連絡先 ※「運営委託」の場合 | T25: 〒
T26: 住所
T27: Tel | AP27: メール アドレス
D28: 13 | G28: 事業開始年月日 | AP28: 和暦 | AS28: =T28 -> 0
D29: 14 | G29: 施設区分 | X29: (1.ベビーホテル 2.事業所内保育施設 3.院内保育施設 4.その他施設)
D30: 15 | G30: 企業主導型保育事業の助成決定 | X30: (1.有 2.無)
T31: ※有の場合→ | AC31: 助成決定年月日
D32: 16 | G32: 系列施設 | X32: (1.有 2.無) | AF32: ※有の場合→ | AO32: 系列 施設数 | AW32: か所 | AZ32: うち 都内 | BG32: か所
D33: 17 | G33: 開所時間 | T33: 通常開所時間 | AL33: 時間外開所時間 | BD33: 備 考
H34: 平 日 | AB34: ～ | AT34: ～
H35: 土曜日 | AB35: ～ | AT35: ～
H36: 日・祝日 | AB36: ～ | AT36: ～
D37: 18 | G37: 提供するサービス内容 | V37: 月極契約 | AE37: 対象年齢 | AM37: 歳 | AR37: 月 | AT37: ～ | AX37: 歳
V38: 一時預かり | AM38: 歳 | AR38: 月 | AT38: ～ | AX38: 歳 | AZ38: ※1） | BC38: ０歳児の場合は、月齢まで記入すること。
V39: 夜間保育 | AM39: 歳 | AR39: 月 | AT39: ～ | AX39: 歳
V40: 24時間保育 | AM40: 歳 | AR40: 月 | AT40: ～ | AX40: 歳 | AZ40: ※2） | BC40: サービスの内容は、「記載上の注意」により分類すること。
...

Sheet ②児童数及び職員配置
AI1: 施設番号 | AN1: =①施設基本情報!AW1 -> 0 | AW1: 施設名 | BB1: =①施設基本情報!T5 -> 0
K3: ０歳児 | Q3: １歳児 | W3: ２歳児 | AC3: ３歳児 | AI3: ４歳児 | AO3: ５歳児 | AU3: ６歳以上 （就学前） | BA3: 学童 | BG3: 計 | BN3: 年齢別定員の 設定がない ⇒合計数のみ 記入
D4: 23 | G4: 定員 | BG4: =SUM(K4,Q4,W4,AC4,AI4,AO4,AU4,BA4) -> 0
E5: 地域枠 | K5: ( | BF5: ) | BG5: ( | BH5: =SUM(L5,R5,X5,AD5,AJ5,AP5,AV5,BB5) -> 0 | BL5: )
E6: 従業員枠 | K6: ( | BF6: ) | BG6: ( | BH6: =SUM(L6,R6,X6,AD6,AJ6,AP6,AV6,BB6) -> 0 | BL6: )
D7: ※施設区分が事業所内保育施設又は院内保育施設の場合は（ ）内に地域枠、従業員枠の内訳を記載すること。
D9: ＜24及び25の記入方法＞
D10: ※「月極」は報告日現在の契約児童数を記入してください。「一時預かり」は調査日当日に一時預かりで保育した児童数を記入してください。
D11: ※報告日現在の満年齢で記入してください。
D13: 24 | G13: 保育している児童の人数 | V13: （令和8年10月1日当日の状況をご入力ください）
AA14: ０歳児 | AE14: １歳児 | AI14: ２歳児 | AM14: ３歳児 | AQ14: ４歳児 | AU14: ５歳児 | AY14: ６歳 以上児 (就学前) | BC14: 学童 | BG14: 計
D15: 昼 間 | I15: 午後８時までにお迎え | V15: 月極 | BG15: =SUM(AA15:BF15) -> 0
V16: 一時預かり | BG16: =SUM(AA16:BF16) -> 0
V17: 計 | AA17: =SUM(AA15:AD16) -> 0 | AE17: =SUM(AE15:AH16) -> 0 | AI17: =SUM(AI15:AL16) -> 0 | AM17: =SUM(AM15:AP16) -> 0 | AQ17: =SUM(AQ15:AT16) -> 0 | AU17: =SUM(AU15:AX16) -> 0 | AY17: =SUM(AY15:BB16) -> 0 | BC17: =SUM(BC15:BF16) -> 0 | BG17: =SUM(BG15:BJ16) -> 0
D18: 夜 間 | I18: 午後10時までにお迎え | V18: 月極 | BG18: =SUM(AA18:BF18) -> 0
V19: 一時預かり | BG19: =SUM(AA19:BF19) -> 0
V20: 計 | AA20: =SUM(AA18:AD19) -> 0 | AE20: =SUM(AE18:AH19) -> 0 | AI20: =SUM(AI18:AL19) -> 0 | AM20: =SUM(AM18:AP19) -> 0 | AQ20: =SUM(AQ18:AT19) -> 0 | AU20: =SUM(AU18:AX19) -> 0 | AY20: =SUM(AY18:BB19) -> 0 | BC20: =SUM(BC18:BF19) -> 0 | BG20: =SUM(BG18:BJ19) -> 0
D21: 深 夜 | I21: 午後10時 ～午前２時にお迎え | V21: 月極 | BG21: =SUM(AA21:BF21) -> 0
V22: 一時預かり | BG22: =SUM(AA22:BF22) -> 0
V23: 計 | AA23: =SUM(AA21:AD22) -> 0 | AE23: =SUM(AE21:AH22) -> 0 | AI23: =SUM(AI21:AL22) -> 0 | AM23: =SUM(AM21:AP22) -> 0 | AQ23: =SUM(AQ21:AT22) -> 0 | AU23: =SUM(AU21:AX22) -> 0 | AY23: =SUM(AY21:BB22) -> 0 | BC23: =SUM(BC21:BF22) -> 0 | BG23: =SUM(BG21:BJ22) -> 0
D24: 宿 泊 | I24: 午前２時 ～翌朝にお迎え | V24: 月極 | BG24: =SUM(AA24:BF24) -> 0
V25: 一時預かり | BG25: =SUM(AA25:BF25) -> 0
V26: 計 | AA26: =SUM(AA24:AD25) -> 0 | AE26: =SUM(AE24:AH25) -> 0 | AI26: =SUM(AI24:AL25) -> 0 | AM26: =SUM(AM24:AP25) -> 0 | AQ26: =SUM(AQ24:AT25) -> 0 | AU26: =SUM(AU24:AX25) -> 0 | AY26: =SUM(AY24:BB25) -> 0 | BC26: =SUM(BC24:BF25) -> 0 | BG26: =SUM(BG24:BJ25) -> 0
D27: 24時間 | I27: 24時間お迎えなし | V27: 月極 | BG27: =SUM(AA27:BF27) -> 0
V28: 一時預かり | BG28: =SUM(AA28:BF28) -> 0
V29: 計 | AA29: =SUM(AA27:AD28) -> 0 | AE29: =SUM(AE27:AH28) -> 0 | AI29: =SUM(AI27:AL28) -> 0 | AM29: =SUM(AM27:AP28) -> 0 | AQ29: =SUM(AQ27:AT28) -> 0 | AU29: =SUM(AU27:AX28) -> 0 | AY29: =SUM(AY27:BB28) -> 0 | BC29: =SUM(BC27:BF28) -> 0 | BG29: =SUM(BG27:BJ28) -> 0
D30: 計 | V30: 月極 | AA30: =SUM(AA15,AA18,AA21,AA24,AA27) -> 0 | AE30: =SUM(AE15,AE18,AE21,AE24,AE27) -> 0 | AI30: =SUM(AI15,AI18,AI21,AI24,AI27) -> 0 | AM30: =SUM(AM15,AM18,AM21,AM24,AM27) -> 0 | AQ30: =SUM(AQ15,AQ18,AQ21,AQ24,AQ27) -> 0 | AU30: =SUM(AU15,AU18,AU21,AU24,AU27) -> 0 | AY30: =SUM(AY15,AY18,AY21,AY24,AY27) -> 0 | BC30: =SUM(BC15,BC18,BC21,BC24,BC27) -> 0 | BG30: =SUM(AA30:BF30) -> 0
V31: 一時預かり | AA31: =SUM(AA16,AA19,AA22,AA25,AA28) -> 0 | AE31: =SUM(AE16,AE19,AE22,AE25,AE28) -> 0 | AI31: =SUM(AI16,AI19,AI22,AI25,AI28) -> 0 | AM31: =SUM(AM16,AM19,AM22,AM25,AM28) -> 0 | AQ31: =SUM(AQ16,AQ19,AQ22,AQ25,AQ28) -> 0 | AU31: =SUM(AU16,AU19,AU22,AU25,AU28) -> 0 | AY31: =SUM(AY16,AY19,AY22,AY25,AY28) -> 0 | BC31: =SUM(BC16,BC19,BC22,BC25,BC28) -> 0 | BG31: =SUM(AA31:BF31) -> 0
V32: 計 | AA32: =SUM(AA30:AD31) -> 0 | AE32: =SUM(AE30:AH31) -> 0 | AI32: =SUM(AI30:AL31) -> 0 | AM32: =SUM(AM30:AP31) -> 0 | AQ32: =SUM(AQ30:AT31) -> 0 | AU32: =SUM(AU30:AX31) -> 0 | AY32: =SUM(AY30:BB31) -> 0 | BC32: =SUM(BC30:BF31) -> 0 | BG32: =SUM(BG30:BJ31) -> 0
D34: 25 | H34: 時間帯別の在籍児童数 （月極め・一時預かりを含めた延べ数で記入してください。） | AU34: (令和８年１０月１日時点)
Q35: ０歳児 | V35: １歳児 | AA35: ２歳児 | AF35: ３歳児 | AK35: ４歳児 | AP35: ５歳児 | AU35: ６歳以上 (就学前) | AZ35: 学童 | BE35: 計
D36: 7:00～8:59 | BE36: =SUM(Q36:BD36) -> 0
Q37: =ROUNDDOWN(Q36/3,1) -> 0 | V37: =ROUNDDOWN((V36+AA36)/6,1) -> 0 | AF37: =ROUNDDOWN(AF36/20,1) -> 0 | AK37: =ROUNDDOWN(SUM(AK36,AP36,AU36)/30,1) -> 0 | BE37: =IF(BE36=0,"",IF(ROUND(SUM(Q37:AY37),0)<2,2,ROUND(SUM(Q37:AY37),0)))
D38: 9:00～16:59 | BE38: =SUM(Q38:BD38) -> 0
Q39: =ROUNDDOWN(Q38/3,1) -> 0 | V39: =ROUNDDOWN((V38+AA38)/6,1) -> 0 | AF39: =ROUNDDOWN(AF38/20,1) -> 0 | AK39: =ROUNDDOWN(SUM(AK38,AP38,AU38)/30,1) -> 0 | BE39: =IF(BE38=0,"",IF(ROUND(SUM(Q39:AY39),0)<2,2,ROUND(SUM(Q39:AY39),0)))
D40: 17:00～17:59 | BE40: =SUM(Q40:BD40) -> 0
Q41: =ROUNDDOWN(Q40/3,1) -> 0 | V41: =ROUNDDOWN((V40+AA40)/6,1) -> 0 | AF41: =ROUNDDOWN(AF40/20,1) -> 0 | AK41: =ROUNDDOWN(SUM(AK40,AP40,AU40)/30,1) -> 0 | BE41: =IF(BE40=0,"",IF(ROUND(SUM(Q41:AY41),0)<2,2,ROUND(SUM(Q41:AY41),0)))
D42: 18:00～18:59 | BE42: =SUM(Q42:BD42) -> 0
Q43: =ROUNDDOWN(Q42/3,1) -> 0 | V43: =ROUNDDOWN((V42+AA42)/6,1) -> 0 | AF43: =ROUNDDOWN(AF42/20,1) -> 0 | AK43: =ROUNDDOWN(SUM(AK42,AP42,AU42)/30,1) -> 0 | BE43: =IF(BE42=0,"",IF(ROUND(SUM(Q43:AY43),0)<2,2,ROUND(SUM(Q43:AY43),0)))
D44: 19:00～19:59 | BE44: =SUM(Q44:BD44) -> 0
...

Sheet ③施設の構造及び設備
AA1: 施設番号 | AF1: =①施設基本情報!AW1 -> 0 | AO1: 施設名 | AT1: =①施設基本情報!T5 -> 0
E3: 室 名 | Q3: 保育室等
AB4: 乳児室 | AK4: ほふく室 | AT4: 保育室 | BC4: 遊戯室
J5: 室 数 | Q5: =SUM(AB5,AK5,AT5,BC5,) -> 0 | Z5: 室 | AI5: 室 | AR5: 室 | BA5: 室 | BJ5: 室
B6: 31 | J6: 面 積 | Q6: =SUM(AB6,AK6,AT6,BC6,) -> 0 | Z6: ㎡ | AI6: ㎡ | AR6: ㎡ | BA6: ㎡ | BJ6: ㎡
B7: 施 設 ・ 設 備 | E7: 室 名 | Q7: 調理室 | Z7: 医務室 | AI7: 便 所 | AR7: その他 | BA7: 合 計
J8: 室 数 | X8: 室 | AG8: 室 | AP8: 室 | AY8: 室
J9: 面 積 | X9: ㎡ | AG9: ㎡ | AP9: ㎡ | AY9: ㎡ | BA9: =SUM(Q6,Q9,Z9,AI9,AR9) -> 0 | BJ9: ㎡
AI10: 便器 | AP10: 個
E11: 屋外遊戯場（園庭） | U11: (1.有 2.無) | AC11: ※無の場合→ | AL11: 代替場所 | AR11: ( | BK11: )
Q12: 面積 | AC12: ㎡
E13: 児童用便所 | U13: (1.有 2.無) | AC13: ※有の場合→ | AL13: 便器の個数 | AV13: 個
E14: 児童用手洗い場 （保育室用） | U14: (1.有 2.無)
E15: 建物の構造 | U15: (1.鉄骨造 2.鉄筋コンクリート造 3.れん瓦造 4.木造 5.その他)
E16: 施設の階数 | S16: 階 | U16: ～ | Y16: 階 | AA16: (建物の階数: | AK16: 階建て)
E17: 建物の形態 | U17: (1.専用建物 2.集合住宅 3.事務所ビル 4.業務用ビル 5.その他)
E18: 立地場所 | U18: (1.住宅地 2.オフィス街 3.商店街 4.工業地 5.駅ビル・駅隣接 6.その他)
A19: 32 | D19: 乳児室の区画 | U19: (1.専用室 2.フェンス 3.ベビーベッド 4.その他 5.区画なし)
Q20: ※「4.その他」の場合→ | AF20: 区画方法 | AL20: ( | BK20: )
A21: 33 | D21: 保育室の採光･換気 | Q21: 窓等採光 | AB21: ( 1.良い 2.普通 3.悪い )
Q22: 窓等換気 | AB22: ( 1.良い 2.普通 3.悪い )
A23: 34 | D23: 便所の設備 | Q23: 保育室との仕切 | AE23: (1.有 2.無)
Q24: 調理室との仕切 | AE24: (1.有 2.無)
Q25: 専用手洗い | AE25: (1.有 2.無)
A26: 35 | D26: 消火設備 | Q26: 消火器 | AE26: (1.有 2.無)
Q27: ※無の場合→ | AA27: 消火器以外の設備 | AK27: ( | BK27: )
A28: 36 | D28: 玄関以外の非常口 | U28: (1.有 2.無)
Q29: ※無の場合→ | AA29: 設置している避難器具 | AN29: ( | BK29: )
A30: 37 | D30: 消防計画 | Q30: 作成状況 | AA30: (1.作成済み 2.未作成)
Q31: 届出状況 | AA31: (1.届出済み 2.未届 3.届出対象外)
Q32: 届出年月日
A33: 38 | D33: 避難消火訓練 | U33: (1.実施 2.未実施)
Q34: 実施(予定)回数 | AE34: 回／年 | AJ34: うち、図上訓練 | AW34: 回／年
A35: 39 | D35: 保育室が２階にある場合の条件 | R35: 転落防止設備 | AB35: ( | AE35: 窓柵 | AK35: 階段手すり | AU35: テラス手すり | BF35: その他）
R36: 建物の耐火性能 | AG36: (1.耐火建築物 2.準耐火建築物 3.その他)
R37: 建物の構造 | AG37: (1.鉄筋コンクリート 2.レンガ 3.石 4.その他）
Q38: 階段等設備 | AB38: 常用 | AK38: 屋内階段
AK39: 屋外階段
AB40: 避難用 | AK40: 屋内避難階段又は屋内特別避難階段
AK41: バルコニー
...

Sheet ④保育内容・給食
AD1: 施設番号 | AI1: =①施設基本情報!AW1 -> 0 | AR1: 施設名 | AW1: =①施設基本情報!T5 -> 0
D3: 41 | G3: 保育計画の策定状況 | V3: 年間 | AA3: 月案 | AF3: 週案 | AK3: デイリープログラム | AY3: 行事予定 | BG3: 保育目標
D4: 42 | G4: 入浴等を必要とする児童の取り扱い | T4: 24時間保育で､３日以上継続して在園する児童の有無 | BB4: (1.有 2.無)
AX5: ※有の場合→ | BI5: 週 | BM5: 日
T6: 入浴の有無 | BB6: (1.有 2.無)
T7: 汚れたときなどの対処 | BB7: (1.有 2.無)
D8: 43 | G8: 外遊び、外気浴の実施 | X8: (1.実施 2.未実施) | AJ8: ※実施の場合→ | AT8: 実施回数 | BC8: 回／週
D9: 44 | G9: 備えられている遊具等 | V9: 玩具 | Y9: ( | AH9: ) | AK9: 絵本 | AP9: 机 | AU9: 椅子
V10: 楽器 | Y10: ( | AH10: ) | AK10: 他 | AN10: ( | BN10: ）
D11: 45 | G11: 職員の研修等の受講状況（直近３回） | T11: 受講時期 | Z11: 年 | AD11: 月 | AF11: 研修名 | BH11: 受講職員数 | BM11: 名
Z12: 年 | AD12: 月 | BM12: 名
Z13: 年 | AD13: 月 | BM13: 名
D14: 46 | G14: 施設内研修の実施状況 | X14: (1.実施 2.未実施) | AJ14: ※実施の場合→ | AT14: 実施回数 | BC14: 回／年
D15: 47 | G15: 安全管理・事故防止の取組状況 | T15: 保育安全計画を策定している | BD15: (1.実施 2.未実施)
T16: 安全管理・事故防止のための研修を定期的に実施している | AZ16: 実施回数 | BK16: 回／年
T17: 安全管理・事故防止の手順やマニュアルを整備し、職員に周知している | BD17: (1.実施 2.未実施)
T18: 消防署・病院等関係機関との連絡を密にし、緊急の場合には適切な体制がとれるようにしているか | BD18: (1.実施 2.未実施)
D19: 48 | G19: 保護者との連絡状況 | U19: 献立表の配布 | AP19: (1.有 2.無)
U20: 施設だよりの配布 | AP20: (1.有 2.無)
U21: 連絡帳の作成 | AP21: (1.有 2.無)
U22: 緊急連絡表の作成 | AP22: (1.有 2.無)
D23: 49 | G23: 保護者及び施設利用希望者の保育室等の見学 | X23: (1.実施 2.未実施)
G24: 保育室 | T24: 清掃方法 | AT24: 回数
D25: 50 | G25: 便所 | T25: 清掃方法 | AT25: 回数
D26: 衛生管理 | G26: 調理室 | T26: 清掃方法 | AT26: 回数
G27: 食器 | T27: 消毒方法 | AR27: 保管方法
G28: 哺乳ビン | T28: 消毒方法 | AR28: 保管方法
G29: 衣類 | T29: 洗濯方法 | AR29: 消毒方法
G30: 寝具 | T30: 乾燥方法 | AR30: 消毒方法
G31: 玩具類 | T31: 清掃方法 | AR31: 消毒方法
G32: 給食の実施状況 | T32: 朝食 | AB32: 1.施設内調理 2.施設外調理 3.仕出し弁当 4.その他給食 | AL32: 5.弁当持参 6.家庭で食事 7.その他(給食以外)
D33: 51 | T33: 昼食
D34: 給 食 | T34: 夕食
G35: 献立表の作成 | T35: 朝食 | AB35: (1.有 2.無) | AJ35: ※有の場合→ | AU35: 週間献立
T36: 昼食 | AB36: (1.有 2.無) | AJ36: ※有の場合→ | AU36: 週間献立
T37: 夕食 | AB37: (1.有 2.無) | AJ37: ※有の場合→ | AU37: 週間献立
G38: 乳児食（離乳食） | X38: (1.有 2.無)
T39: ※有の場合→ | AE39: 施設内調理 | AN39: 調理済み市販 | AX39: 家から持参 | BG39: その他
G40: 食品の保存方法 | V40: 冷蔵庫 | AC40: その他 | AH40: ( | BN40: ）

Sheet ⑤健康管理・安全確保
AD1: 施設番号 | AI1: =①施設基本情報!AW1 -> 0 | AR1: 施設名 | AW1: =①施設基本情報!T5 -> 0
D3: 52 | G3: 登園時の健康状態観察 | X3: (1.有 2.無)
T4: 観察項目 | AB4: 体温 | AG4: 排便 | AL4: 食事 | AQ4: 睡眠 | AV4: 顔ぼう | BB4: その他 | BF4: ( | BN4: )
D5: 53 | G5: 降園時の個別検査 | X5: (1.有 2.無)
T6: 検査項目 | AB6: 服装 | AG6: 外傷 | AL6: 清潔 | AQ6: その他 | AU6: ( | BN6: )
D7: 54 | G7: 児童の発育チェック | X7: (1.実施 2.未実施)
T8: 実施内容 | AB8: 身長測定 | AJ8: 体重測定 | AR8: その他 | AV8: ( | BN8: )
D9: 55 | G9: 児童の健康診断 | N9: 入所時 | X9: (1.実施 2.未実施) | AI9: 実施 方法 | AO9: 施設で実施 | AX9: 診断書提出 | BG9: 母子手帳確認
N10: 入所後 | X10: (1.実施 2.未実施) | AO10: 施設で実施 | AX10: 診断書提出 | BG10: 母子手帳確認
T11: 実施回数 | AC11: 回／年 | AG11: → | AK11: 実施時期 | AT11: 月 | AY11: 月
D12: 56 | G12: ケガや病気の時の措置 | V12: 保護者への連絡 | AG12: 医療機関への受診 | AT12: その他 | AX12: ( | BN12: )
D13: 57 | G13: 職員の健康診断 | N13: 採用時 | X13: (1.実施 2.未実施) | AI13: 実施 方法 | AO13: 施設で実施 | AX13: 診断書提出 | BG13: その他
N14: 採用後 | X14: (1.実施 2.未実施) | AO14: 施設で実施 | AX14: 診断書提出 | BG14: その他
D15: 58 | G15: 調理・調乳者の検便 | X15: (1.実施 2.未実施) | AI15: 実施回数 | AR15: 回／年
D16: 59 | G16: 備えられている医薬品 | V16: 体温計 | AB16: 水まくら類 | AK16: 外用・消毒薬 | AU16: 絆創膏類 | BC16: 他 | BE16: ( | BN16: )
D17: 60 | G17: 感染症への対応 | P17: 再登園時、かかりつけ医とのやりとりを記載した書面等の提出 | BD17: (1.実施 2.未実施)
P18: 歯ブラシ、コップ、タオル、ハンカチ等の共用防止 | BD18: (1.実施 2.未実施)
D19: 61 | G19: 乳幼児突然死症候群の予防 | U19: 午睡の有無 | BD19: (1.あり 2.なし)
U20: 睡眠中の乳幼児のきめ細かな観察 | BD20: (1.実施 2.未実施)
U21: 仰向け寝の徹底 | BD21: (1.実施 2.未実施)
U22: 睡眠チェックリストの作成及び記入 | BD22: (1.実施 2.未実施)
U23: 保育室での禁煙の厳守 | BD23: (1.実施 2.未実施)
I24: ○安全対策 | BD24: (1.適 2.不適)
D25: 62 | J25: 各室内に危険物がない、放置物品がない、 暖房器具の固定、燃焼部の覆い、書庫等の転倒防止、棚等からの落下物防止などの安全対策が講じられている場合は適、欠けている場合は不適とする。
D27: 安 全 確 保 | G27: ( | J27: 保育室 | P27: 玄関 | U27: 非常口 | Z27: 階段 | AE27: 通路 | AJ27: 台所 | AO27: 便所 | AT27: 浴室 | AY27: ベランダ | BE27: 園庭 | BJ27: 門扉 | BN27: )
I28: ○事故防止 | BD28: (1.適 2.不適)
J29: 施設内の危険な場所、設備等への囲障の設置、施錠等を行うなど、児童が危険な場所等へ進入しないような対策が講じられているか。
I31: ○緊急時の対策 | BD31: (1.適 2.不適)
J32: 不審者の立入防止などの対策や緊急時における児童の安全を確保する体制が整備されているか。
I34: ○プール活動等における安全対策 | AT34: (1.適 2.不適 3.プール活動なし)
J35: プール活動や水遊びを行う場合、監視体制の空白が生じないよう、専ら監視を行う者とプール指導を行う者を分けて配置し、その役割分担を明確にしているか。
I37: ○窒息事故防止のための点検 | AQ37: (1.実施 2.未実施) | BB37: 実施頻度 | BK37: 回／年
J38: 窒息の可能性のある玩具、小物等が不用意に保育環境下に置かれていないか、保育士等による保育室内及び園庭内の点検を定期的に行っているか。
I40: ○事故発生時の適切な救命処置のための訓練等
J41: 消防署等が実施する救命講習の受講 | AM41: 過去３年以内に受講した職員の人数 | BM41: 名
J42: 緊急通報訓練(119番通報等の訓練)の実施 | AQ42: (1.実施 2.未実施) | BB42: 実施回数 | BK42: 回／年
I43: ○誤嚥による窒息事故の防止
J44: 誤嚥等による窒息のリスクとなる食材の除去等 | AQ44: (1.実施 2.未実施)
I45: ○アレルギー疾患への対応
J46: 生活管理指導表等に基づいた食事の提供 | AQ46: (1.実施 2.未実施)
...

Sheet ⑥情報提供・帳簿他
AD1: 施設番号 | AI1: =①施設基本情報!AW1 -> 0 | AR1: 施設名 | AW1: =①施設基本情報!T5 -> 0
D3: 63 | G3: 利用者等への情報提供 | T3: サービス内容等の掲示 | BD3: (1.実施 2.未実施)
T4: 利用者への契約時の書面交付（電子可） | BD4: (1.実施 2.未実施)
T5: 利用予定者への契約内容等の説明 | BD5: (1.実施 2.未実施)
D6: 64 | G6: 児童票の作成状況 | X6: (1.有 2.無)
T7: 記載内容 | AB7: 家庭状況 | AJ7: 既往歴 | AQ7: 健康状況 | AY7: 成長記録 | BG7: 健康診断記録
D8: 65 | G8: 帳簿の作成、整備状況 | T8: 職員名簿(履歴書) | AI8: (1.有 2.無) | AR8: 児童出席表 | BG8: (1.有 2.無)
T9: 資格証明書 | AI9: (1.有 2.無) | AR9: 施設平面図 | BG9: (1.有 2.無)
T10: 職員の雇用状況がわかる書類 （雇用通知書、賃金台帳等） | AP10: (1.有 2.無)
D11: 66 | G11: こどもの預かりサービスのマッチングサイトのＵＲＬ
D12: 67 | G12: 設置者が過去に事業停止命令又は施設閉鎖命令 | T12: 過去に受けた命令の有無 | AM12: (1.有 2.無)
T13: ※有の場合 | W13: 受けた命令 | AM13: (1.事業停止命令 2.施設閉鎖命令)
W14: 命令を行った 都道府県等 | AO14: 命令年月日
D15: 68 | G15: こども性暴力防止法の施行に伴うこども家庭庁への認定申請の意向（任意） | X15: (1.申請予定 2.検討中 3.申請しない) ※参考 別添「こども性暴力防止法の施行に向けた対応について」
D17: ＜備考欄＞

Sheet 職員名簿 
T1: （別紙）
A2: 職 員 名 簿
A3: 施設名： | C3: =①施設基本情報!T5 -> 0 | P3: 調査日： | R3: 46296
A4: ＮＯ | B4: 職務 内容 | C4: 氏名 ・ 生年月日 | K4: 保育の 資格 | L4: 雇用形態 | M4: 勤務時間 (平均) | P4: 勤務開 始年月 | R4: 他の保育施設での勤務経験 | T4: 備考 | U4: 事務 処理欄
A5: 1 | B5: 施設長 | K5: 保育士 | L5: 正規職員 | M5: 日 | O5: 時間 | P5: 昭・平・令 | R5: ・あり | U5: 履 雇
B6: 保育 | K6: 看護師 | L6: パート・アルバイト | M6: 週 | O6: 時間 | S6: 年 | U6: 証 賃
B7: 調理 | K7: 助産師 | L7: 派遣社員 | M7: 月平均 | Q7: 年 | S7: ヶ月 | U7: 勤 健
B8: 事務 | C8: （ | D8: 昭和 | F8: 年 | H8: 月 | J8: 日生） | K8: 保健師 | L8: 契約社員 | Q8: 月 | U8: 出 便
B9: その他 | D9: 平成 | K9: なし | L9: その他 | O9: 時間 | P9: から | R9: ・なし | U9: 労
A10: 2 | B10: 施設長 | K10: 保育士 | L10: 正規職員 | M10: 日 | O10: 時間 | P10: 昭・平・令 | R10: ・あり | U10: 履 雇
B11: 保育 | K11: 看護師 | L11: パート・アルバイト | M11: 週 | O11: 時間 | S11: 年 | U11: 証 賃
B12: 調理 | K12: 助産師 | L12: 派遣社員 | M12: 月平均 | Q12: 年 | S12: ヶ月 | U12: 勤 健
B13: 事務 | C13: （ | D13: 昭和 | F13: 年 | H13: 月 | J13: 日生） | K13: 保健師 | L13: 契約社員 | Q13: 月 | U13: 出 便
B14: その他 | D14: 平成 | K14: なし | L14: その他 | O14: 時間 | P14: から | R14: ・なし | U14: 労
A15: 3 | B15: 施設長 | K15: 保育士 | L15: 正規職員 | M15: 日 | O15: 時間 | P15: 昭・平・令 | R15: ・あり | U15: 履 雇
B16: 保育 | K16: 看護師 | L16: パート・アルバイト | M16: 週 | O16: 時間 | S16: 年 | U16: 証 賃
B17: 調理 | K17: 助産師 | L17: 派遣社員 | M17: 月平均 | Q17: 年 | S17: ヶ月 | U17: 勤 健
B18: 事務 | C18: （ | D18: 昭和 | F18: 年 | H18: 月 | J18: 日生） | K18: 保健師 | L18: 契約社員 | Q18: 月 | U18: 出 便
B19: その他 | D19: 平成 | K19: なし | L19: その他 | O19: 時間 | P19: から | R19: ・なし | U19: 労
A20: 4 | B20: 施設長 | K20: 保育士 | L20: 正規職員 | M20: 日 | O20: 時間 | P20: 昭・平・令 | R20: ・あり | U20: 履 雇
B21: 保育 | K21: 看護師 | L21: パート・アルバイト | M21: 週 | O21: 時間 | S21: 年 | U21: 証 賃
B22: 調理 | K22: 助産師 | L22: 派遣社員 | M22: 月平均 | Q22: 年 | S22: ヶ月 | U22: 勤 健
B23: 事務 | C23: （ | D23: 昭和 | F23: 年 | H23: 月 | J23: 日生） | K23: 保健師 | L23: 契約社員 | Q23: 月 | U23: 出 便
B24: その他 | D24: 平成 | K24: なし | L24: その他 | O24: 時間 | P24: から | R24: ・なし | U24: 労
A25: 5 | B25: 施設長 | K25: 保育士 | L25: 正規職員 | M25: 日 | O25: 時間 | P25: 昭・平・令 | R25: ・あり | U25: 履 雇
B26: 保育 | K26: 看護師 | L26: パート・アルバイト | M26: 週 | O26: 時間 | S26: 年 | U26: 証 賃
B27: 調理 | K27: 助産師 | L27: 派遣社員 | M27: 月平均 | Q27: 年 | S27: ヶ月 | U27: 勤 健
B28: 事務 | C28: （ | D28: 昭和 | F28: 年 | H28: 月 | J28: 日生） | K28: 保健師 | L28: 契約社員 | Q28: 月 | U28: 出 便
B29: その他 | D29: 平成 | K29: なし | L29: その他 | O29: 時間 | P29: から | R29: ・なし | U29: 労
A30: 6 | B30: 施設長 | K30: 保育士 | L30: 正規職員 | M30: 日 | O30: 時間 | P30: 昭・平・令 | R30: ・あり | U30: 履 雇
B31: 保育 | K31: 看護師 | L31: パート・アルバイト | M31: 週 | O31: 時間 | S31: 年 | U31: 証 賃
B32: 調理 | K32: 助産師 | L32: 派遣社員 | M32: 月平均 | Q32: 年 | S32: ヶ月 | U32: 勤 健
B33: 事務 | C33: （ | D33: 昭和 | F33: 年 | H33: 月 | J33: 日生） | K33: 保健師 | L33: 契約社員 | Q33: 月 | U33: 出 便
B34: その他 | D34: 平成 | K34: なし | L34: その他 | O34: 時間 | P34: から | R34: ・なし | U34: 労
A35: 7 | B35: 施設長 | K35: 保育士 | L35: 正規職員 | M35: 日 | O35: 時間 | P35: 昭・平・令 | R35: ・あり | U35: 履 雇
B36: 保育 | K36: 看護師 | L36: パート・アルバイト | M36: 週 | O36: 時間 | S36: 年 | U36: 証 賃
B37: 調理 | K37: 助産師 | L37: 派遣社員 | M37: 月平均 | Q37: 年 | S37: ヶ月 | U37: 勤 健
B38: 事務 | C38: （ | D38: 昭和 | F38: 年 | H38: 月 | J38: 日生） | K38: 保健師 | L38: 契約社員 | Q38: 月 | U38: 出 便
B39: その他 | D39: 平成 | K39: なし | L39: その他 | O39: 時間 | P39: から | R39: ・なし | U39: 労
A40: 8 | B40: 施設長 | K40: 保育士 | L40: 正規職員 | M40: 日 | O40: 時間 | P40: 昭・平・令 | R40: ・あり | U40: 履 雇
...

Sheet 集計（※編集・削除せず、そのまま提出してください。）
HC1: 47 | HD1: 62 | HE1: 62 | HF1: 62 | HG1: 62 | HH1: 37 | HI1: 38 | HJ1: 62 | HK1: 62 | HL1: 62 | HM1: 68
B2: 施設番号 | C2: 施設区分 | D2: 企業主導型 | E2: 施設名称 | F2: 施設所在地 | M2: 施設連絡先 | O2: 設置主体 | P2: 設置者名 | Q2: 設置者住所･連絡先 | U2: 代表者 | V2: 管理者 | W2: 管理者住所連絡先 | AA2: 運営方法 | AB2: 委託先名称 | AC2: 委託先住所・連絡先 | AG2: 事業開始年月日 | AH2: 企業主導型助成決定日 | AI2: 系列施設 | AL2: 平日 | AQ2: 土曜日 | AV2: 日曜日・祝日 | BA2: 月極契約 | BE2: 一時預かり | BI2: 夜間保育 | BM2: 24時間保育 | BQ2: その他 | BU2: 料金 | DA2: 保険加入状況 | DF2: 提携医療機関 | DJ2: 定員 | EL2: 24保育している児童の人数 | FA2: 時間帯別の在籍児童数 （月極め・一時預かりを含めた延べ数で記入してください。） | FR2: 保育従事者数 | GJ2: 嘱託医 | GK2: 管理栄養士 | GL2: 栄養士 | GM2: 保育室面積 | GN2: 屋外遊戯場 | GP2: 建物の構造 | GQ2: 階数 | GS2: 建物の形態 | GT2: 立地場所 | GU2: 玄関以外の非常口 | GV2: 給食実施の有無 | GY2: 行政処分 | HC2: 施設一覧掲載用 | HF2: ここdeサーチ （緊急時における対応） | HI2: （非常災害対策） | HJ2: （虐待対応）
F3: 〒 | G3: 住所 | I3: 最寄り駅 | K3: 所要時間 | M3: tel | N3: メール | Q3: 〒 | R3: 住所 | S3: tel | T3: メール | W3: 〒 | X3: 住所 | Y3: tel | Z3: メール | AC3: 〒 | AD3: 住所 | AE3: tel | AF3: メール | AI3: 有無 | AJ3: 施設数 | AK3: うち都内 | AL3: 通常 | AN3: 時間外 | AP3: 備考 | AQ3: 通常 | AS3: 時間外 | AU3: 備考 | AV3: 通常 | AX3: 時間外 | AZ3: 備考 | BA3: 実施 | BB3: 下限 | BD3: 上限 | BE3: 実施 | BF3: 下限 | BH3: 上限 | BI3: 実施 | BJ3: 下限 | BL3: 上限 | BM3: 実施 | BN3: 下限 | BP3: 上限 | BQ3: 実施 | BR3: 下限 | BT3: 上限 | BU3: 月極契約 | CC3: 一時預かり | CK3: 夜間保育 | CS3: その他 | DA3: 保険種類 | DD3: 保険事故 | DE3: 保険金額 | DF3: 機関名 | DG3: 所在地 | DH3: tel | DI3: 提携内容 | DT3: 地域枠 | EC3: 従業員枠 | EL3: 在園時間 | ER3: 年齢 | FA3: 時間別 | FI3: 主たる11時間 | FR3: 計 | FS3: 保育士 | FT3: 看護師 | FU3: 准看護師 | FV3: 保健師 | FW3: 助産師 | FX3: 有資格者計 | FY3: 家庭的研修(基礎 | FZ3: 家庭的研修(認定 | GA3: 居宅研修 | GB3: 子育て支援員 | GC3: ＢＳ養成研修 | GD3: ＢＳ科目履修 | GE3: 認可外居宅研修 | GF3: その他基準研修 | GG3: 研修修了者計 | GH3: 未修了 | GI3: 基準外研修 | GN3: 有無 | GO3: 面積 | GQ3: 最下階 | GR3: 最上階 | GV3: 朝 | GW3: 昼 | GX3: 夕 | GY3: 命令の有無 | GZ3: 命令の種別 | HA3: 都道府県 | HB3: 命令年月日 | HC3: 安全確保に関する研修 | HD3: 睡眠中の事故防止を目的とする機器 | HE3: ＡＥＤ 設置有無 | HF3: 緊急通報訓練(119番通報等の訓練)の実施 | HG3: 不審者の立入防止など安全確保 | HH3: 消防計画の作成 | HI3: 避難消火訓練 | HJ3: マニュアル作成 | HK3: 虐待防止研修受講 | HL3: その他の取組み | HM3: こども性暴力防止法の施行に伴うこども家庭庁への認定申請の意向（任意）
G4: 区市町村 | H4: 町名以降 | I4: 路線 | J4: 駅 | K4: バス | L4: 徒歩 | AL4: 始 | AM4: 終 | AN4: 始 | AO4: 終 | AQ4: 始 | AR4: 終 | AS4: 始 | AT4: 終 | AV4: 始 | AW4: 終 | AX4: 始 | AY4: 終 | BB4: 歳 | BC4: 月 | BD4: 歳 | BF4: 歳 | BG4: 月 | BH4: 歳 | BJ4: 歳 | BK4: 月 | BL4: 歳 | BN4: 歳 | BO4: 月 | BP4: 歳 | BR4: 歳 | BS4: 月 | BT4: 歳 | BU4: 0歳 | BV4: 1歳 | BW4: 2歳 | BX4: 3歳 | BY4: 4歳 | BZ4: 5歳 | CA4: 6歳(未就学) | CB4: 学童 | CC4: 0歳 | CD4: 1歳 | CE4: 2歳 | CF4: 3歳 | CG4: 4歳 | CH4: 5歳 | CI4: 6歳(未就学) | CJ4: 学童 | CK4: 0歳 | CL4: 1歳 | CM4: 2歳 | CN4: 3歳 | CO4: 4歳 | CP4: 5歳 | CQ4: 6歳(未就学) | CR4: 学童 | CS4: 0歳 | CT4: 1歳 | CU4: 2歳 | CV4: 3歳 | CW4: 4歳 | CX4: 5歳 | CY4: 6歳(未就学) | CZ4: 学童 | DA4: 賠償責任保険 | DB4: 傷害保険 | DC4: その他 | DJ4: 0歳 | DK4: 1歳 | DL4: 2歳 | DM4: 3歳 | DN4: 4歳 | DO4: 5歳 | DP4: 6歳(就学前) | DQ4: 学童 | DR4: 計 | DS4: 年齢別定員の 設定がない ⇒合計数のみ記入 | DT4: 0歳 | DU4: 1歳 | DV4: 2歳 | DW4: 3歳 | DX4: 4歳 | DY4: 5歳 | DZ4: 6歳(就学前) | EA4: 学童 | EB4: 計 | EC4: 0歳 | ED4: 1歳 | EE4: 2歳 | EF4: 3歳 | EG4: 4歳 | EH4: 5歳 | EI4: 6歳(就学前) | EJ4: 学童 | EK4: 計 | EL4: 昼間 (20時まで） | EM4: 夜間 (22時まで） | EN4: 深夜 （22～2） | EO4: 宿泊 (2～翌朝） | EP4: 24時間 | EQ4: 合計 (月極＋一時） | ER4: 0歳 | ES4: 1歳 | ET4: 2歳 | EU4: 3歳 | EV4: 4歳 | EW4: 5歳 | EX4: 6歳 | EY4: 小学生以上 | EZ4: 合計 | FA4: 7:00～8:59 | FB4: 9:00～16:59 | FC4: 17:00～17:59 | FD4: 18:00～18:59 | FE4: 19:00～19:59 | FF4: 20:00～21:59 | FG4: 22:00～23:59 | FH4: 0:00～6:59 | FI4: 0歳児 | FJ4: 1歳児 | FK4: 2歳児 | FL4: 3歳児 | FM4: 4歳児 | FN4: 5歳児 | FO4: 6歳児 | FP4: 学童 | FQ4: 計 | HM4: 1.申請予定 2.検討中 3.申請しない
B5: =①施設基本情報!AW1 -> 0 | C5: =①施設基本情報!$T$29 -> 0 | D5: =①施設基本情報!$T$30 -> 0 | E5: =①施設基本情報!$T$5 -> 0 | F5: =①施設基本情報!$W$6 -> 0 | G5: =①施設基本情報!$W$7 -> 世田谷区 | H5: =①施設基本情報!$AD$7 -> 0 | I5: =①施設基本情報!$AA$8 -> 0 | J5: =①施設基本情報!$AA$9 -> 0 | K5: =①施設基本情報!$BC$8 -> 0 | L5: =①施設基本情報!$BC$9 -> 0 | M5: =①施設基本情報!$W$10 -> 0 | N5: =①施設基本情報!$AS$10 -> 0 | O5: =①施設基本情報!$T$13 -> 0 | P5: =①施設基本情報!$T$14 -> 0 | Q5: =①施設基本情報!$W$15 -> 0 | R5: =①施設基本情報!$W$16 -> 0 | S5: =①施設基本情報!$W$17 -> 0 | T5: =①施設基本情報!$AS$17 -> ＠ | U5: =①施設基本情報!$AV$18&①施設基本情報!$Z$18 | V5: =①施設基本情報!$AV$19&①施設基本情報!$Z$19 | W5: =①施設基本情報!$W$20 -> 0 | X5: =①施設基本情報!$W$21 -> 0 | Y5: =①施設基本情報!$W$22 -> 0 | Z5: =①施設基本情報!$AS$22 -> 0 | AA5: =①施設基本情報!$T$23 -> 0 | AB5: =①施設基本情報!$T$24 -> 0 | AC5: =①施設基本情報!$W$25 -> 0 | AD5: =①施設基本情報!$W$26 -> 0 | AE5: =①施設基本情報!$W$27 -> 0 | AF5: =①施設基本情報!$AS$27 -> 0 | AG5: =①施設基本情報!$T$28 -> 0 | AH5: =①施設基本情報!$AM$31 -> 0 | AI5: =①施設基本情報!$T$32 -> 0 | AJ5: =①施設基本情報!$AT$32 -> 0 | AK5: =①施設基本情報!$BD$32 -> 0 | AL5: =①施設基本情報!$T$34 -> 0 | AM5: =①施設基本情報!$AD$34 -> 0 | AN5: =①施設基本情報!$AL$34 -> 0 | AO5: =①施設基本情報!$AV$34 -> 0 | AP5: =①施設基本情報!$BD$34 -> 0 | AQ5: =①施設基本情報!$T$35 -> 0 | AR5: =①施設基本情報!$AD$35 -> 0 | AS5: =①施設基本情報!$AL$35 -> 0 | AT5: =①施設基本情報!$AV$35 -> 0 | AU5: =①施設基本情報!$BD$35 -> 0 | AV5: =①施設基本情報!$T$36 -> 0 | AW5: =①施設基本情報!$AD$36 -> 0 | AX5: =①施設基本情報!$AL$36 -> 0 | AY5: =①施設基本情報!$AV$36 -> 0 | AZ5: =①施設基本情報!$BD$36 -> 0 | BA5: =①施設基本情報!T37 -> 0 | BB5: =①施設基本情報!$AK$37 -> 0 | BC5: =①施設基本情報!$AO$37 -> 0 | BD5: =①施設基本情報!$AV$37 -> 0 | BE5: =①施設基本情報!T38 -> 0 | BF5: =①施設基本情報!$AK$38 -> 0 | BG5: =①施設基本情報!$AO$38 -> 0 | BH5: =①施設基本情報!$AV$38 -> 0 | BI5: =①施設基本情報!T39 -> 0 | BJ5: =①施設基本情報!$AK$39 -> 0 | BK5: =①施設基本情報!$AO$39 -> 0 | BL5: =①施設基本情報!$AV$39 -> 0 | BM5: =①施設基本情報!T40 -> 0 | BN5: =①施設基本情報!$AK$40 -> 0 | BO5: =①施設基本情報!$AO$40 -> 0 | BP5: =①施設基本情報!$AV$40 -> 0 | BQ5: =①施設基本情報!T41 -> 0 | BR5: =①施設基本情報!$AK$41 -> 0 | BS5: =①施設基本情報!$AO$41 -> 0 | BT5: =①施設基本情報!$AV$41 -> 0 | BU5: =①施設基本情報!$N$46 -> 0 | BV5: =①施設基本情報!$N$48 -> 0 | BW5: =①施設基本情報!$N$50 -> 0 | BX5: =①施設基本情報!$N$52 -> 0 | BY5: =①施設基本情報!$N$54 -> 0 | BZ5: =①施設基本情報!$N$56 -> 0 | CA5: =①施設基本情報!$N$58 -> 0 | CB5: =①施設基本情報!$N$60 -> 0 | CC5: =①施設基本情報!$W$46 -> 0 | CD5: =①施設基本情報!$W$48 -> 0 | CE5: =①施設基本情報!$W$50 -> 0 | CF5: =①施設基本情報!$W$52 -> 0 | CG5: =①施設基本情報!$W$54 -> 0 | CH5: =①施設基本情報!$W$56 -> 0 | CI5: =①施設基本情報!$W$58 -> 0 | CJ5: =①施設基本情報!$W$60 -> 0 | CK5: =①施設基本情報!$AF$46 -> 0 | CL5: =①施設基本情報!$AF$48 -> 0 | CM5: =①施設基本情報!$AF$50 -> 0 | CN5: =①施設基本情報!$AF$52 -> 0 | CO5: =①施設基本情報!$AF$54 -> 0 | CP5: =①施設基本情報!$AF$56 -> 0 | CQ5: =①施設基本情報!$AF$58 -> 0 | CR5: =①施設基本情報!$AF$60 -> 0 | CS5: =①施設基本情報!$AO$46 -> 0 | CT5: =①施設基本情報!$AO$48 -> 0 | CU5: =①施設基本情報!$AO$50 -> 0 | CV5: =①施設基本情報!$AO$52 -> 0 | CW5: =①施設基本情報!$AO$54 -> 0 | CX5: =①施設基本情報!$AO$56 -> 0 | CY5: =①施設基本情報!$AO$58 -> 0 | CZ5: =①施設基本情報!$AO$60 -> 0 | DA5: =①施設基本情報!W62 -> 0 | DB5: =①施設基本情報!AG62 -> 0 | DC5: =①施設基本情報!AQ62 -> 0 | DD5: =①施設基本情報!$W$63 -> 0 | DE5: =①施設基本情報!$W$64 -> 0 | DF5: =①施設基本情報!$W$65 -> 0 | DG5: =①施設基本情報!$W$66 -> 0 | DH5: =①施設基本情報!$W$67 -> 0 | DI5: =①施設基本情報!$W$68 -> 0 | DJ5: =②児童数及び職員配置!$K$4 -> 0 | DK5: =②児童数及び職員配置!$Q$4 -> 0 | DL5: =②児童数及び職員配置!$W$4 -> 0 | DM5: =②児童数及び職員配置!$AC$4 -> 0 | DN5: =②児童数及び職員配置!$AI$4 -> 0 | DO5: =②児童数及び職員配置!$AO$4 -> 0 | DP5: =②児童数及び職員配置!$AU$4 -> 0 | DQ5: =②児童数及び職員配置!$BA$4 -> 0 | DR5: =②児童数及び職員配置!$BG$4 -> 0 | DS5: =②児童数及び職員配置!BN5 -> 0 | DT5: =②児童数及び職員配置!$L$5 -> 0 | DU5: =②児童数及び職員配置!$R$5 -> 0 | DV5: =②児童数及び職員配置!$X$5 -> 0 | DW5: =②児童数及び職員配置!$AD$5 -> 0 | DX5: =②児童数及び職員配置!$AJ$5 -> 0 | DY5: =②児童数及び職員配置!$AP$5 -> 0 | DZ5: =②児童数及び職員配置!$AV$5 -> 0 | EA5: =②児童数及び職員配置!$BB$5 -> 0 | EB5: =②児童数及び職員配置!$BH$5 -> 0 | EC5: =②児童数及び職員配置!$L$6 -> 0 | ED5: =②児童数及び職員配置!$R$6 -> 0 | EE5: =②児童数及び職員配置!$X$6 -> 0 | EF5: =②児童数及び職員配置!$AD$6 -> 0 | EG5: =②児童数及び職員配置!$AJ$6 -> 0 | EH5: =②児童数及び職員配置!$AP$6 -> 0 | EI5: =②児童数及び職員配置!$AV$6 -> 0 | EJ5: =②児童数及び職員配置!$BB$6 -> 0 | EK5: =②児童数及び職員配置!$BH$6 -> 0 | EL5: =②児童数及び職員配置!$BG$17 -> 0 | EM5: =②児童数及び職員配置!$BG$20 -> 0 | EN5: =②児童数及び職員配置!$BG$23 -> 0 | EO5: =②児童数及び職員配置!$BG$26 -> 0 | EP5: =②児童数及び職員配置!$BG$29 -> 0 | EQ5: =②児童数及び職員配置!$BG$32 -> 0 | ER5: =②児童数及び職員配置!$AA$32 -> 0 | ES5: =②児童数及び職員配置!$AE$32 -> 0 | ET5: =②児童数及び職員配置!$AI$32 -> 0 | EU5: =②児童数及び職員配置!$AM$32 -> 0 | EV5: =②児童数及び職員配置!$AQ$32 -> 0 | EW5: =②児童数及び職員配置!$AU$32 -> 0 | EX5: =②児童数及び職員配置!$AY$32 -> 0 | EY5: =②児童数及び職員配置!$BC$32 -> 0 | EZ5: =②児童数及び職員配置!$BG$32 -> 0 | FA5: =②児童数及び職員配置!$BE$36 -> 0 | FB5: =②児童数及び職員配置!$BE$38 -> 0 | FC5: =②児童数及び職員配置!$BE$40 -> 0 | FD5: =②児童数及び職員配置!$BE$42 -> 0 | FE5: =②児童数及び職員配置!$BE$44 -> 0 | FF5: =②児童数及び職員配置!$BE$46 -> 0 | FG5: =②児童数及び職員配置!$BE$48 -> 0 | FH5: =②児童数及び職員配置!$BE$50 -> 0 | FI5: =②児童数及び職員配置!$Q$54 -> 0 | FJ5: =②児童数及び職員配置!$V$54 -> 0 | FK5: =②児童数及び職員配置!$AA$54 -> 0 | FL5: =②児童数及び職員配置!$AF$54 -> 0 | FM5: =②児童数及び職員配置!$AK$54 -> 0 | FN5: =②児童数及び職員配置!$AP$54 -> 0 | FO5: =②児童数及び職員配置!$AU$54 -> 0 | FP5: =②児童数及び職員配置!$AZ$54 -> 0 | FQ5: =②児童数及び職員配置!$BE$54 -> 0 | FR5: =②児童数及び職員配置!$BJ$60 -> 0 | FS5: =②児童数及び職員配置!$BJ$61 -> 0 | FT5: =②児童数及び職員配置!$BJ$62 -> 0 | FU5: =②児童数及び職員配置!$BJ$63 -> 0 | FV5: =②児童数及び職員配置!$BJ$64 -> 0 | FW5: =②児童数及び職員配置!$BJ$65 -> 0 | FX5: =SUM(FS5:FW5) -> 0 | FY5: =②児童数及び職員配置!$BJ$66 -> 0 | FZ5: =②児童数及び職員配置!$BJ$67 -> 0 | GA5: =②児童数及び職員配置!$BJ$68 -> 0 | GB5: =②児童数及び職員配置!$BJ$69 -> 0 | GC5: =②児童数及び職員配置!$BJ$70 -> 0 | GD5: =②児童数及び職員配置!$BJ$71 -> 0 | GE5: =②児童数及び職員配置!$BJ$72 -> 0 | GF5: =②児童数及び職員配置!$BJ$73 -> 0 | GG5: =SUM(FY5:GF5) -> 0 | GH5: =②児童数及び職員配置!$BJ$75 -> 0 | GI5: =②児童数及び職員配置!$BK$77 -> 0 | GJ5: =②児童数及び職員配置!$AA$79 -> 0 | GK5: =②児童数及び職員配置!$AH$80 -> 0 | GL5: =②児童数及び職員配置!$AR$80 -> 0 | GM5: =③施設の構造及び設備!$Q$6 -> 0 | GN5: =③施設の構造及び設備!$Q$11 -> 0 | GO5: =③施設の構造及び設備!$U$12 -> 0 | GP5: =③施設の構造及び設備!$Q$15 -> 0 | GQ5: =③施設の構造及び設備!$Q$16 -> 0 | GR5: =③施設の構造及び設備!$W$16 -> 0 | GS5: =③施設の構造及び設備!$Q$17 -> 0 | GT5: =③施設の構造及び設備!$Q$18 -> 0 | GU5: =③施設の構造及び設備!$Q$28 -> 0 | GV5: =④保育内容・給食!$X$32 -> 0 | GW5: =④保育内容・給食!$X$33 -> 0 | GX5: =④保育内容・給食!$X$34 -> 0 | GY5: =⑥情報提供・帳簿他!$AI$12 -> 0 | GZ5: =⑥情報提供・帳簿他!$AI$13 -> 0 | HA5: =⑥情報提供・帳簿他!$AI$14 -> 0 | HB5: =⑥情報提供・帳簿他!$AW$14 -> 0 | HC5: =④保育内容・給食!BH16 -> 0 | HD5: =⑤健康管理・安全確保!AZ53 -> 0 | HE5: =⑤健康管理・安全確保!AZ56 -> 0 | HF5: =⑤健康管理・安全確保!AM42 -> 0 | HG5: =⑤健康管理・安全確保!AZ31 -> 0 | HH5: =③施設の構造及び設備!W30 -> 0 | HI5: =③施設の構造及び設備!Q33 -> 0 | HJ5: =⑤健康管理・安全確保!AC50 -> 0 | HK5: =⑤健康管理・安全確保!AZ50 -> 0 | HL5: =⑤健康管理・安全確保!T51 -> 0 | HM5: =⑥情報提供・帳簿他!T15 -> 0

Sheet list（※編集・削除せず、そのまま提出してください。）
B3: 区市町村 | D3: 施設長 | E3: 保育士 | F3: 正規職員 | G3: あり | H3: 履
B4: 世田谷区 | D4: 保育従事職員 | E4: 看護師 | F4: パートアルバイト | G4: なし | H4: 雇
B5: 千代田区 | D5: 調理 | E5: 助産師 | F5: 派遣社員 | H5: 証
B6: 中央区 | D6: 事務 | E6: 保健師 | F6: 契約社員 | H6: 賃
B7: 新宿区 | D7: その他 | E7: なし | F7: その他
B8: 文京区
B9: 台東区
B10: 墨田区
B11: 江東区
B12: 品川区
B13: 目黒区
B14: 大田区
B15: 渋谷区
B16: 中野区
B17: 杉並区
B18: 豊島区
B19: 北区
... B61: 小笠原村
